BEGIN:VCALENDAR
VERSION:2.0
PRODID:-//Kettle Park Senior Living - ECPv6.11.2.1//NONSGML v1.0//EN
CALSCALE:GREGORIAN
METHOD:PUBLISH
X-WR-CALNAME:Kettle Park Senior Living
X-ORIGINAL-URL:https://kettleparkseniorliving.com
X-WR-CALDESC:Events for Kettle Park Senior Living
REFRESH-INTERVAL;VALUE=DURATION:PT1H
X-Robots-Tag:noindex
X-PUBLISHED-TTL:PT1H
BEGIN:VTIMEZONE
TZID:America/Chicago
BEGIN:DAYLIGHT
TZOFFSETFROM:-0600
TZOFFSETTO:-0500
TZNAME:CDT
DTSTART:20250309T080000
END:DAYLIGHT
BEGIN:STANDARD
TZOFFSETFROM:-0500
TZOFFSETTO:-0600
TZNAME:CST
DTSTART:20251102T070000
END:STANDARD
END:VTIMEZONE
BEGIN:VEVENT
DTSTART;TZID=America/Chicago:20250708T133000
DTEND;TZID=America/Chicago:20250708T140000
DTSTAMP:20260425T082643
CREATED:20250609T213131Z
LAST-MODIFIED:20250627T004712Z
UID:10000993-1751981400-1751983200@kettleparkseniorliving.com
SUMMARY:Matching & Puzzles
DESCRIPTION:
URL:https://kettleparkseniorliving.com/event-calendar/matching-puzzles-11/
LOCATION:Lounge Area
CATEGORIES:Memory Care
END:VEVENT
BEGIN:VEVENT
DTSTART;TZID=America/Chicago:20250708T130000
DTEND;TZID=America/Chicago:20250708T140000
DTSTAMP:20260425T082643
CREATED:20250609T213131Z
LAST-MODIFIED:20250708T011633Z
UID:10000992-1751979600-1751983200@kettleparkseniorliving.com
SUMMARY:Devotions with Chaplin Lee
DESCRIPTION:
URL:https://kettleparkseniorliving.com/event-calendar/devotions-with-chaplin-lee-15/
LOCATION:Lounge Area
CATEGORIES:Memory Care
END:VEVENT
BEGIN:VEVENT
DTSTART;TZID=America/Chicago:20250708T130000
DTEND;TZID=America/Chicago:20250708T133000
DTSTAMP:20260425T082643
CREATED:20250628T004641Z
LAST-MODIFIED:20250701T010122Z
UID:10001298-1751979600-1751981400@kettleparkseniorliving.com
SUMMARY:Music Appreciation
DESCRIPTION:
URL:https://kettleparkseniorliving.com/event-calendar/music-appreciation-47/
LOCATION:Lounge Area
CATEGORIES:Memory Care
END:VEVENT
BEGIN:VEVENT
DTSTART;TZID=America/Chicago:20250708T110000
DTEND;TZID=America/Chicago:20250708T120000
DTSTAMP:20260425T082643
CREATED:20250609T213130Z
LAST-MODIFIED:20250708T011632Z
UID:10000990-1751972400-1751976000@kettleparkseniorliving.com
SUMMARY:Dog Visits w/ Lucy and Tink
DESCRIPTION:
URL:https://kettleparkseniorliving.com/event-calendar/dog-visits-w-lucy-and-tink-16/
LOCATION:Lounge Area
CATEGORIES:Memory Care
END:VEVENT
BEGIN:VEVENT
DTSTART;TZID=America/Chicago:20250708T093000
DTEND;TZID=America/Chicago:20250708T110000
DTSTAMP:20260425T082643
CREATED:20250608T211708Z
LAST-MODIFIED:20250708T011632Z
UID:10000983-1751967000-1751972400@kettleparkseniorliving.com
SUMMARY:Reading w/ Kathy
DESCRIPTION:
URL:https://kettleparkseniorliving.com/event-calendar/reading-w-kathy-8/
LOCATION:Lounge Area
CATEGORIES:Memory Care
END:VEVENT
BEGIN:VEVENT
DTSTART;TZID=America/Chicago:20250708T091500
DTEND;TZID=America/Chicago:20250708T093000
DTSTAMP:20260425T082643
CREATED:20250608T211708Z
LAST-MODIFIED:20250708T011632Z
UID:10000984-1751966100-1751967000@kettleparkseniorliving.com
SUMMARY:News/Current Events
DESCRIPTION:
URL:https://kettleparkseniorliving.com/event-calendar/news-current-events-55/
LOCATION:Lounge Area
CATEGORIES:Memory Care
END:VEVENT
BEGIN:VEVENT
DTSTART;TZID=America/Chicago:20250707T180000
DTEND;TZID=America/Chicago:20250707T190000
DTSTAMP:20260425T082643
CREATED:20250608T211708Z
LAST-MODIFIED:20250707T011654Z
UID:10000981-1751911200-1751914800@kettleparkseniorliving.com
SUMMARY:Finish the Phrase
DESCRIPTION:
URL:https://kettleparkseniorliving.com/event-calendar/finish-the-phrase-8/
LOCATION:Lounge Area
CATEGORIES:Memory Care
END:VEVENT
BEGIN:VEVENT
DTSTART;TZID=America/Chicago:20250707T150000
DTEND;TZID=America/Chicago:20250707T160000
DTSTAMP:20260425T082643
CREATED:20250612T214637Z
LAST-MODIFIED:20250707T011655Z
UID:10001053-1751900400-1751904000@kettleparkseniorliving.com
SUMMARY:Smoothies & Chat
DESCRIPTION:
URL:https://kettleparkseniorliving.com/event-calendar/smoothies-chat-72/
LOCATION:Lounge Area
CATEGORIES:Memory Care
END:VEVENT
BEGIN:VEVENT
DTSTART;TZID=America/Chicago:20250707T150000
DTEND;TZID=America/Chicago:20250707T160000
DTSTAMP:20260425T082643
CREATED:20250608T211708Z
LAST-MODIFIED:20250707T011655Z
UID:10000979-1751900400-1751904000@kettleparkseniorliving.com
SUMMARY:Happy Hour
DESCRIPTION:
URL:https://kettleparkseniorliving.com/event-calendar/happy-hour-11/
LOCATION:Lounge Area
CATEGORIES:Memory Care
END:VEVENT
BEGIN:VEVENT
DTSTART;TZID=America/Chicago:20250707T134500
DTEND;TZID=America/Chicago:20250707T141500
DTSTAMP:20260425T082643
CREATED:20250608T211708Z
LAST-MODIFIED:20250707T011655Z
UID:10000977-1751895900-1751897700@kettleparkseniorliving.com
SUMMARY:UMC Devotions
DESCRIPTION:
URL:https://kettleparkseniorliving.com/event-calendar/umc-devotions-16/
LOCATION:Lounge Area
CATEGORIES:Memory Care
END:VEVENT
BEGIN:VEVENT
DTSTART;TZID=America/Chicago:20250707T130000
DTEND;TZID=America/Chicago:20250707T133000
DTSTAMP:20260425T082643
CREATED:20250628T004641Z
LAST-MODIFIED:20250707T011655Z
UID:10001297-1751893200-1751895000@kettleparkseniorliving.com
SUMMARY:Music Appreciation
DESCRIPTION:
URL:https://kettleparkseniorliving.com/event-calendar/music-appreciation-46/
LOCATION:Lounge Area
CATEGORIES:Memory Care
END:VEVENT
BEGIN:VEVENT
DTSTART;TZID=America/Chicago:20250707T091500
DTEND;TZID=America/Chicago:20250707T093000
DTSTAMP:20260425T082643
CREATED:20250607T211650Z
LAST-MODIFIED:20250707T011655Z
UID:10000968-1751879700-1751880600@kettleparkseniorliving.com
SUMMARY:News/Current Events
DESCRIPTION:
URL:https://kettleparkseniorliving.com/event-calendar/news-current-events-54/
LOCATION:Lounge Area
CATEGORIES:Memory Care
END:VEVENT
BEGIN:VEVENT
DTSTART;TZID=America/Chicago:20250706T180000
DTEND;TZID=America/Chicago:20250706T193000
DTSTAMP:20260425T082643
CREATED:20250607T211650Z
LAST-MODIFIED:20250706T011639Z
UID:10000966-1751824800-1751830200@kettleparkseniorliving.com
SUMMARY:Active Games
DESCRIPTION:
URL:https://kettleparkseniorliving.com/event-calendar/active-games-8/
LOCATION:Lounge Area
CATEGORIES:Memory Care
END:VEVENT
BEGIN:VEVENT
DTSTART;TZID=America/Chicago:20250706T150000
DTEND;TZID=America/Chicago:20250706T160000
DTSTAMP:20260425T082643
CREATED:20250612T214636Z
LAST-MODIFIED:20250706T011639Z
UID:10001052-1751814000-1751817600@kettleparkseniorliving.com
SUMMARY:Smoothies & Chat
DESCRIPTION:
URL:https://kettleparkseniorliving.com/event-calendar/smoothies-chat-71/
LOCATION:Lounge Area
CATEGORIES:Memory Care
END:VEVENT
BEGIN:VEVENT
DTSTART;TZID=America/Chicago:20250706T143000
DTEND;TZID=America/Chicago:20250706T150000
DTSTAMP:20260425T082643
CREATED:20250607T211650Z
LAST-MODIFIED:20250706T011641Z
UID:10000964-1751812200-1751814000@kettleparkseniorliving.com
SUMMARY:Active Game
DESCRIPTION:
URL:https://kettleparkseniorliving.com/event-calendar/active-game-34/
LOCATION:Lounge Area
CATEGORIES:Memory Care
END:VEVENT
BEGIN:VEVENT
DTSTART;TZID=America/Chicago:20250706T133000
DTEND;TZID=America/Chicago:20250706T143000
DTSTAMP:20260425T082643
CREATED:20250607T211649Z
LAST-MODIFIED:20250706T011641Z
UID:10000963-1751808600-1751812200@kettleparkseniorliving.com
SUMMARY:Word Games
DESCRIPTION:
URL:https://kettleparkseniorliving.com/event-calendar/word-games-8/
LOCATION:Lounge Area
CATEGORIES:Memory Care
END:VEVENT
BEGIN:VEVENT
DTSTART;TZID=America/Chicago:20250706T130000
DTEND;TZID=America/Chicago:20250706T133000
DTSTAMP:20260425T082643
CREATED:20250628T004641Z
LAST-MODIFIED:20250706T011641Z
UID:10001296-1751806800-1751808600@kettleparkseniorliving.com
SUMMARY:Music Appreciation
DESCRIPTION:
URL:https://kettleparkseniorliving.com/event-calendar/music-appreciation-45/
LOCATION:Lounge Area
CATEGORIES:Memory Care
END:VEVENT
BEGIN:VEVENT
DTSTART;TZID=America/Chicago:20250706T103000
DTEND;TZID=America/Chicago:20250706T113000
DTSTAMP:20260425T082643
CREATED:20250606T211634Z
LAST-MODIFIED:20250706T011641Z
UID:10000958-1751797800-1751801400@kettleparkseniorliving.com
SUMMARY:Hymn Sing
DESCRIPTION:
URL:https://kettleparkseniorliving.com/event-calendar/hymn-sing-15/
LOCATION:Lounge Area
CATEGORIES:Memory Care
END:VEVENT
BEGIN:VEVENT
DTSTART;TZID=America/Chicago:20250706T100000
DTEND;TZID=America/Chicago:20250706T103000
DTSTAMP:20260425T082643
CREATED:20250606T211634Z
LAST-MODIFIED:20250706T011641Z
UID:10000957-1751796000-1751797800@kettleparkseniorliving.com
SUMMARY:TV Church Service
DESCRIPTION:
URL:https://kettleparkseniorliving.com/event-calendar/tv-church-service-8/
LOCATION:Lounge Area
CATEGORIES:Memory Care
END:VEVENT
BEGIN:VEVENT
DTSTART;TZID=America/Chicago:20250706T091500
DTEND;TZID=America/Chicago:20250706T093000
DTSTAMP:20260425T082643
CREATED:20250606T211634Z
LAST-MODIFIED:20250706T011641Z
UID:10000955-1751793300-1751794200@kettleparkseniorliving.com
SUMMARY:News/Current Events
DESCRIPTION:
URL:https://kettleparkseniorliving.com/event-calendar/news-current-events-53/
LOCATION:Lounge Area
CATEGORIES:Memory Care
END:VEVENT
BEGIN:VEVENT
DTSTART;TZID=America/Chicago:20250705T150000
DTEND;TZID=America/Chicago:20250705T160000
DTSTAMP:20260425T082643
CREATED:20250612T214636Z
LAST-MODIFIED:20250705T011657Z
UID:10001051-1751727600-1751731200@kettleparkseniorliving.com
SUMMARY:Smoothies & Chat
DESCRIPTION:
URL:https://kettleparkseniorliving.com/event-calendar/smoothies-chat-70/
LOCATION:Lounge Area
CATEGORIES:Memory Care
END:VEVENT
BEGIN:VEVENT
DTSTART;TZID=America/Chicago:20250705T130000
DTEND;TZID=America/Chicago:20250705T133000
DTSTAMP:20260425T082643
CREATED:20250628T004640Z
LAST-MODIFIED:20250705T011657Z
UID:10001295-1751720400-1751722200@kettleparkseniorliving.com
SUMMARY:Music Appreciation
DESCRIPTION:
URL:https://kettleparkseniorliving.com/event-calendar/music-appreciation-44/
LOCATION:Lounge Area
CATEGORIES:Memory Care
END:VEVENT
BEGIN:VEVENT
DTSTART;TZID=America/Chicago:20250705T110000
DTEND;TZID=America/Chicago:20250705T233000
DTSTAMP:20260425T082643
CREATED:20250606T211634Z
LAST-MODIFIED:20250706T011641Z
UID:10000954-1751713200-1751758200@kettleparkseniorliving.com
SUMMARY:Sing-along
DESCRIPTION:
URL:https://kettleparkseniorliving.com/event-calendar/sing-along-10/
LOCATION:Lounge Area
CATEGORIES:Memory Care
END:VEVENT
BEGIN:VEVENT
DTSTART;TZID=America/Chicago:20250705T091500
DTEND;TZID=America/Chicago:20250705T093000
DTSTAMP:20260425T082643
CREATED:20250605T211636Z
LAST-MODIFIED:20250705T011656Z
UID:10000944-1751706900-1751707800@kettleparkseniorliving.com
SUMMARY:News/Current Events
DESCRIPTION:
URL:https://kettleparkseniorliving.com/event-calendar/news-current-events-52/
LOCATION:Lounge Area
CATEGORIES:Memory Care
END:VEVENT
BEGIN:VEVENT
DTSTART;TZID=America/Chicago:20250704T180000
DTEND;TZID=America/Chicago:20250704T193000
DTSTAMP:20260425T082643
CREATED:20250605T211636Z
LAST-MODIFIED:20250704T011705Z
UID:10000942-1751652000-1751657400@kettleparkseniorliving.com
SUMMARY:Friday Night Movie
DESCRIPTION:
URL:https://kettleparkseniorliving.com/event-calendar/friday-night-movie-15/
LOCATION:Lounge Area
CATEGORIES:Memory Care
END:VEVENT
BEGIN:VEVENT
DTSTART;TZID=America/Chicago:20250704T150000
DTEND;TZID=America/Chicago:20250704T160000
DTSTAMP:20260425T082644
CREATED:20250612T214636Z
LAST-MODIFIED:20250704T011706Z
UID:10001050-1751641200-1751644800@kettleparkseniorliving.com
SUMMARY:Smoothies & Chat
DESCRIPTION:
URL:https://kettleparkseniorliving.com/event-calendar/smoothies-chat-69/
LOCATION:Lounge Area
CATEGORIES:Memory Care
END:VEVENT
BEGIN:VEVENT
DTSTART;TZID=America/Chicago:20250704T150000
DTEND;TZID=America/Chicago:20250704T160000
DTSTAMP:20260425T082644
CREATED:20250604T211715Z
LAST-MODIFIED:20250604T211715Z
UID:10000903-1751641200-1751644800@kettleparkseniorliving.com
SUMMARY:Smoothies & Chat
DESCRIPTION:
URL:https://kettleparkseniorliving.com/event-calendar/smoothies-chat-52/
LOCATION:Lounge Area
CATEGORIES:Memory Care
END:VEVENT
BEGIN:VEVENT
DTSTART;TZID=America/Chicago:20250704T130000
DTEND;TZID=America/Chicago:20250704T133000
DTSTAMP:20260425T082644
CREATED:20250628T004640Z
LAST-MODIFIED:20250704T011706Z
UID:10001294-1751634000-1751635800@kettleparkseniorliving.com
SUMMARY:Music Appreciation
DESCRIPTION:
URL:https://kettleparkseniorliving.com/event-calendar/music-appreciation-43/
LOCATION:Lounge Area
CATEGORIES:Memory Care
END:VEVENT
BEGIN:VEVENT
DTSTART;TZID=America/Chicago:20250704T091500
DTEND;TZID=America/Chicago:20250704T093000
DTSTAMP:20260425T082644
CREATED:20250604T211714Z
LAST-MODIFIED:20250704T011706Z
UID:10000896-1751620500-1751621400@kettleparkseniorliving.com
SUMMARY:News/Current Events
DESCRIPTION:
URL:https://kettleparkseniorliving.com/event-calendar/news-current-events-51/
LOCATION:Lounge Area
CATEGORIES:Memory Care
END:VEVENT
BEGIN:VEVENT
DTSTART;TZID=America/Chicago:20250703T180000
DTEND;TZID=America/Chicago:20250703T190000
DTSTAMP:20260425T082644
CREATED:20250604T211714Z
LAST-MODIFIED:20250703T010131Z
UID:10000894-1751565600-1751569200@kettleparkseniorliving.com
SUMMARY:Active Game
DESCRIPTION:
URL:https://kettleparkseniorliving.com/event-calendar/active-game-32/
LOCATION:Lounge Area
CATEGORIES:Memory Care
END:VEVENT
END:VCALENDAR