BEGIN:VCALENDAR
VERSION:2.0
PRODID:-//Kettle Park Senior Living - ECPv6.11.2.1//NONSGML v1.0//EN
CALSCALE:GREGORIAN
METHOD:PUBLISH
X-WR-CALNAME:Kettle Park Senior Living
X-ORIGINAL-URL:https://kettleparkseniorliving.com
X-WR-CALDESC:Events for Kettle Park Senior Living
REFRESH-INTERVAL;VALUE=DURATION:PT1H
X-Robots-Tag:noindex
X-PUBLISHED-TTL:PT1H
BEGIN:VTIMEZONE
TZID:America/Chicago
BEGIN:DAYLIGHT
TZOFFSETFROM:-0600
TZOFFSETTO:-0500
TZNAME:CDT
DTSTART:20250309T080000
END:DAYLIGHT
BEGIN:STANDARD
TZOFFSETFROM:-0500
TZOFFSETTO:-0600
TZNAME:CST
DTSTART:20251102T070000
END:STANDARD
END:VTIMEZONE
BEGIN:VEVENT
DTSTART;TZID=America/Chicago:20250701T150000
DTEND;TZID=America/Chicago:20250701T160000
DTSTAMP:20260425T164636
CREATED:20250612T214635Z
LAST-MODIFIED:20250701T010121Z
UID:10001047-1751382000-1751385600@kettleparkseniorliving.com
SUMMARY:Smoothies & Chat
DESCRIPTION:
URL:https://kettleparkseniorliving.com/event-calendar/smoothies-chat-66/
LOCATION:Lounge Area
CATEGORIES:Memory Care
END:VEVENT
BEGIN:VEVENT
DTSTART;TZID=America/Chicago:20250701T150000
DTEND;TZID=America/Chicago:20250701T160000
DTSTAMP:20260425T164636
CREATED:20250602T210548Z
LAST-MODIFIED:20250604T211713Z
UID:10000863-1751382000-1751385600@kettleparkseniorliving.com
SUMMARY:Smoothies & Chat
DESCRIPTION:
URL:https://kettleparkseniorliving.com/event-calendar/smoothies-chat-49/
LOCATION:Lounge Area
CATEGORIES:Memory Care
END:VEVENT
BEGIN:VEVENT
DTSTART;TZID=America/Chicago:20250701T140000
DTEND;TZID=America/Chicago:20250701T150000
DTSTAMP:20260425T164636
CREATED:20250602T210547Z
LAST-MODIFIED:20250701T010121Z
UID:10000862-1751378400-1751382000@kettleparkseniorliving.com
SUMMARY:Active Game
DESCRIPTION:
URL:https://kettleparkseniorliving.com/event-calendar/active-game-31/
LOCATION:Lounge Area
CATEGORIES:Memory Care
END:VEVENT
BEGIN:VEVENT
DTSTART;TZID=America/Chicago:20250701T133000
DTEND;TZID=America/Chicago:20250701T140000
DTSTAMP:20260425T164636
CREATED:20250602T210543Z
LAST-MODIFIED:20250627T004709Z
UID:10000861-1751376600-1751378400@kettleparkseniorliving.com
SUMMARY:Matching & Puzzles
DESCRIPTION:
URL:https://kettleparkseniorliving.com/event-calendar/matching-puzzles-10/
LOCATION:Lounge Area
CATEGORIES:Memory Care
END:VEVENT
BEGIN:VEVENT
DTSTART;TZID=America/Chicago:20250701T130000
DTEND;TZID=America/Chicago:20250701T140000
DTSTAMP:20260425T164636
CREATED:20250602T210542Z
LAST-MODIFIED:20250701T010121Z
UID:10000860-1751374800-1751378400@kettleparkseniorliving.com
SUMMARY:Devotions with Chaplin Lee
DESCRIPTION:
URL:https://kettleparkseniorliving.com/event-calendar/devotions-with-chaplin-lee-13/
LOCATION:Lounge Area
CATEGORIES:Memory Care
END:VEVENT
BEGIN:VEVENT
DTSTART;TZID=America/Chicago:20250701T110000
DTEND;TZID=America/Chicago:20250701T120000
DTSTAMP:20260425T164636
CREATED:20250602T210539Z
LAST-MODIFIED:20250701T010121Z
UID:10000858-1751367600-1751371200@kettleparkseniorliving.com
SUMMARY:Dog Visits w/ Lucy and Tink
DESCRIPTION:
URL:https://kettleparkseniorliving.com/event-calendar/dog-visits-w-lucy-and-tink-14/
LOCATION:Lounge Area
CATEGORIES:Memory Care
END:VEVENT
BEGIN:VEVENT
DTSTART;TZID=America/Chicago:20250701T093000
DTEND;TZID=America/Chicago:20250701T110000
DTSTAMP:20260425T164636
CREATED:20250602T210538Z
LAST-MODIFIED:20250701T010121Z
UID:10000857-1751362200-1751367600@kettleparkseniorliving.com
SUMMARY:Reading w/ Kathy
DESCRIPTION:
URL:https://kettleparkseniorliving.com/event-calendar/reading-w-kathy-7/
LOCATION:Lounge Area
CATEGORIES:Memory Care
END:VEVENT
BEGIN:VEVENT
DTSTART;TZID=America/Chicago:20250701T091500
DTEND;TZID=America/Chicago:20250701T093000
DTSTAMP:20260425T164636
CREATED:20250602T210537Z
LAST-MODIFIED:20250701T010121Z
UID:10000856-1751361300-1751362200@kettleparkseniorliving.com
SUMMARY:News/Current Events
DESCRIPTION:
URL:https://kettleparkseniorliving.com/event-calendar/news-current-events-48/
LOCATION:Lounge Area
CATEGORIES:Memory Care
END:VEVENT
BEGIN:VEVENT
DTSTART;TZID=America/Chicago:20250630T180000
DTEND;TZID=America/Chicago:20250630T190000
DTSTAMP:20260425T164636
CREATED:20250602T210534Z
LAST-MODIFIED:20250630T010142Z
UID:10000854-1751306400-1751310000@kettleparkseniorliving.com
SUMMARY:Finish the Phrase
DESCRIPTION:
URL:https://kettleparkseniorliving.com/event-calendar/finish-the-phrase-7/
LOCATION:Lounge Area
CATEGORIES:Memory Care
END:VEVENT
BEGIN:VEVENT
DTSTART;TZID=America/Chicago:20250630T150000
DTEND;TZID=America/Chicago:20250630T160000
DTSTAMP:20260425T164636
CREATED:20250601T210255Z
LAST-MODIFIED:20250630T010143Z
UID:10000849-1751295600-1751299200@kettleparkseniorliving.com
SUMMARY:Happy Hour
DESCRIPTION:
URL:https://kettleparkseniorliving.com/event-calendar/smoothies-chat-48/
LOCATION:Lounge Area
CATEGORIES:Memory Care
END:VEVENT
BEGIN:VEVENT
DTSTART;TZID=America/Chicago:20250630T134500
DTEND;TZID=America/Chicago:20250630T141500
DTSTAMP:20260425T164636
CREATED:20250601T210255Z
LAST-MODIFIED:20250630T010143Z
UID:10000847-1751291100-1751292900@kettleparkseniorliving.com
SUMMARY:UMC Devotions
DESCRIPTION:
URL:https://kettleparkseniorliving.com/event-calendar/umc-devotions-14/
LOCATION:Lounge Area
CATEGORIES:Memory Care
END:VEVENT
BEGIN:VEVENT
DTSTART;TZID=America/Chicago:20250630T130000
DTEND;TZID=America/Chicago:20250630T133000
DTSTAMP:20260425T164636
CREATED:20250628T004638Z
LAST-MODIFIED:20250630T010143Z
UID:10001289-1751288400-1751290200@kettleparkseniorliving.com
SUMMARY:Music Appreciation
DESCRIPTION:
URL:https://kettleparkseniorliving.com/event-calendar/music-appreciation-40/
LOCATION:Lounge Area
CATEGORIES:Memory Care
END:VEVENT
BEGIN:VEVENT
DTSTART;TZID=America/Chicago:20250630T093000
DTEND;TZID=America/Chicago:20250630T100000
DTSTAMP:20260425T164636
CREATED:20250601T210255Z
LAST-MODIFIED:20250602T210528Z
UID:10000843-1751275800-1751277600@kettleparkseniorliving.com
SUMMARY:Get Fit
DESCRIPTION:
URL:https://kettleparkseniorliving.com/event-calendar/get-fit-83/
LOCATION:Lounge Area
CATEGORIES:Memory Care
END:VEVENT
BEGIN:VEVENT
DTSTART;TZID=America/Chicago:20250630T091500
DTEND;TZID=America/Chicago:20250630T093000
DTSTAMP:20260425T164636
CREATED:20250601T210255Z
LAST-MODIFIED:20250630T010143Z
UID:10000842-1751274900-1751275800@kettleparkseniorliving.com
SUMMARY:News/Current Events
DESCRIPTION:
URL:https://kettleparkseniorliving.com/event-calendar/news-current-events-47/
LOCATION:Lounge Area
CATEGORIES:Memory Care
END:VEVENT
BEGIN:VEVENT
DTSTART;TZID=America/Chicago:20250629T180000
DTEND;TZID=America/Chicago:20250629T193000
DTSTAMP:20260425T164636
CREATED:20250601T210255Z
LAST-MODIFIED:20250629T010144Z
UID:10000840-1751220000-1751225400@kettleparkseniorliving.com
SUMMARY:Active Games
DESCRIPTION:
URL:https://kettleparkseniorliving.com/event-calendar/active-games-7/
LOCATION:Lounge Area
CATEGORIES:Memory Care
END:VEVENT
BEGIN:VEVENT
DTSTART;TZID=America/Chicago:20250629T150000
DTEND;TZID=America/Chicago:20250629T160000
DTSTAMP:20260425T164636
CREATED:20250612T214634Z
LAST-MODIFIED:20250629T010144Z
UID:10001046-1751209200-1751212800@kettleparkseniorliving.com
SUMMARY:Smoothies & Chat
DESCRIPTION:
URL:https://kettleparkseniorliving.com/event-calendar/smoothies-chat-65/
LOCATION:Lounge Area
CATEGORIES:Memory Care
END:VEVENT
BEGIN:VEVENT
DTSTART;TZID=America/Chicago:20250629T150000
DTEND;TZID=America/Chicago:20250629T160000
DTSTAMP:20260425T164636
CREATED:20250531T210251Z
LAST-MODIFIED:20250604T211711Z
UID:10000832-1751209200-1751212800@kettleparkseniorliving.com
SUMMARY:Smoothies & Chat
DESCRIPTION:
URL:https://kettleparkseniorliving.com/event-calendar/smoothies-chat-47/
LOCATION:Lounge Area
CATEGORIES:Memory Care
END:VEVENT
BEGIN:VEVENT
DTSTART;TZID=America/Chicago:20250629T143000
DTEND;TZID=America/Chicago:20250629T150000
DTSTAMP:20260425T164636
CREATED:20250531T210251Z
LAST-MODIFIED:20250629T010146Z
UID:10000831-1751207400-1751209200@kettleparkseniorliving.com
SUMMARY:Active Game
DESCRIPTION:
URL:https://kettleparkseniorliving.com/event-calendar/active-game-30/
LOCATION:Lounge Area
CATEGORIES:Memory Care
END:VEVENT
BEGIN:VEVENT
DTSTART;TZID=America/Chicago:20250629T133000
DTEND;TZID=America/Chicago:20250629T143000
DTSTAMP:20260425T164636
CREATED:20250531T210251Z
LAST-MODIFIED:20250629T010146Z
UID:10000830-1751203800-1751207400@kettleparkseniorliving.com
SUMMARY:Word Games
DESCRIPTION:
URL:https://kettleparkseniorliving.com/event-calendar/word-games-7/
LOCATION:Lounge Area
CATEGORIES:Memory Care
END:VEVENT
BEGIN:VEVENT
DTSTART;TZID=America/Chicago:20250629T130000
DTEND;TZID=America/Chicago:20250629T133000
DTSTAMP:20260425T164636
CREATED:20250628T004638Z
LAST-MODIFIED:20250629T010145Z
UID:10001288-1751202000-1751203800@kettleparkseniorliving.com
SUMMARY:Music Appreciation
DESCRIPTION:
URL:https://kettleparkseniorliving.com/event-calendar/music-appreciation-39/
LOCATION:Lounge Area
CATEGORIES:Memory Care
END:VEVENT
BEGIN:VEVENT
DTSTART;TZID=America/Chicago:20250629T103000
DTEND;TZID=America/Chicago:20250629T113000
DTSTAMP:20260425T164636
CREATED:20250531T210250Z
LAST-MODIFIED:20250629T010145Z
UID:10000828-1751193000-1751196600@kettleparkseniorliving.com
SUMMARY:Hymn Sing
DESCRIPTION:
URL:https://kettleparkseniorliving.com/event-calendar/hymn-sing-14/
LOCATION:Lounge Area
CATEGORIES:Memory Care
END:VEVENT
BEGIN:VEVENT
DTSTART;TZID=America/Chicago:20250629T100000
DTEND;TZID=America/Chicago:20250629T103000
DTSTAMP:20260425T164636
CREATED:20250531T210250Z
LAST-MODIFIED:20250629T010145Z
UID:10000827-1751191200-1751193000@kettleparkseniorliving.com
SUMMARY:TV Church Service
DESCRIPTION:
URL:https://kettleparkseniorliving.com/event-calendar/tv-church-service-7/
LOCATION:Lounge Area
CATEGORIES:Memory Care
END:VEVENT
BEGIN:VEVENT
DTSTART;TZID=America/Chicago:20250629T091500
DTEND;TZID=America/Chicago:20250629T093000
DTSTAMP:20260425T164636
CREATED:20250531T210250Z
LAST-MODIFIED:20250629T010145Z
UID:10000826-1751188500-1751189400@kettleparkseniorliving.com
SUMMARY:News/Current Events
DESCRIPTION:
URL:https://kettleparkseniorliving.com/event-calendar/news-current-events-46/
LOCATION:Lounge Area
CATEGORIES:Memory Care
END:VEVENT
BEGIN:VEVENT
DTSTART;TZID=America/Chicago:20250628T150000
DTEND;TZID=America/Chicago:20250628T160000
DTSTAMP:20260425T164636
CREATED:20250612T214634Z
LAST-MODIFIED:20250628T004639Z
UID:10001045-1751122800-1751126400@kettleparkseniorliving.com
SUMMARY:Smoothies & Chat
DESCRIPTION:
URL:https://kettleparkseniorliving.com/event-calendar/smoothies-chat-64/
LOCATION:Lounge Area
CATEGORIES:Memory Care
END:VEVENT
BEGIN:VEVENT
DTSTART;TZID=America/Chicago:20250628T150000
DTEND;TZID=America/Chicago:20250628T160000
DTSTAMP:20260425T164636
CREATED:20250531T210250Z
LAST-MODIFIED:20250604T211710Z
UID:10000823-1751122800-1751126400@kettleparkseniorliving.com
SUMMARY:Smoothies & Chat
DESCRIPTION:
URL:https://kettleparkseniorliving.com/event-calendar/smoothies-chat-46/
LOCATION:Lounge Area
CATEGORIES:Memory Care
END:VEVENT
BEGIN:VEVENT
DTSTART;TZID=America/Chicago:20250628T130000
DTEND;TZID=America/Chicago:20250628T133000
DTSTAMP:20260425T164636
CREATED:20250628T004638Z
LAST-MODIFIED:20250628T004639Z
UID:10001287-1751115600-1751117400@kettleparkseniorliving.com
SUMMARY:Music Appreciation
DESCRIPTION:
URL:https://kettleparkseniorliving.com/event-calendar/music-appreciation-38/
LOCATION:Lounge Area
CATEGORIES:Memory Care
END:VEVENT
BEGIN:VEVENT
DTSTART;TZID=America/Chicago:20250628T110000
DTEND;TZID=America/Chicago:20250628T233000
DTSTAMP:20260425T164636
CREATED:20250531T210250Z
LAST-MODIFIED:20250629T010145Z
UID:10000821-1751108400-1751153400@kettleparkseniorliving.com
SUMMARY:Sing-along
DESCRIPTION:
URL:https://kettleparkseniorliving.com/event-calendar/sing-along-9/
LOCATION:Lounge Area
CATEGORIES:Memory Care
END:VEVENT
BEGIN:VEVENT
DTSTART;TZID=America/Chicago:20250628T091500
DTEND;TZID=America/Chicago:20250628T093000
DTSTAMP:20260425T164636
CREATED:20250530T210136Z
LAST-MODIFIED:20250628T004639Z
UID:10000811-1751102100-1751103000@kettleparkseniorliving.com
SUMMARY:News/Current Events
DESCRIPTION:
URL:https://kettleparkseniorliving.com/event-calendar/news-current-events-45/
LOCATION:Lounge Area
CATEGORIES:Memory Care
END:VEVENT
BEGIN:VEVENT
DTSTART;TZID=America/Chicago:20250627T180000
DTEND;TZID=America/Chicago:20250627T193000
DTSTAMP:20260425T164636
CREATED:20250530T210136Z
LAST-MODIFIED:20250627T004708Z
UID:10000810-1751047200-1751052600@kettleparkseniorliving.com
SUMMARY:Friday Night Movie
DESCRIPTION:
URL:https://kettleparkseniorliving.com/event-calendar/friday-night-movie-14/
LOCATION:Lounge Area
CATEGORIES:Memory Care
END:VEVENT
BEGIN:VEVENT
DTSTART;TZID=America/Chicago:20250627T150000
DTEND;TZID=America/Chicago:20250627T160000
DTSTAMP:20260425T164636
CREATED:20250612T214633Z
LAST-MODIFIED:20250627T004709Z
UID:10001044-1751036400-1751040000@kettleparkseniorliving.com
SUMMARY:Smoothies & Chat
DESCRIPTION:
URL:https://kettleparkseniorliving.com/event-calendar/smoothies-chat-63/
LOCATION:Lounge Area
CATEGORIES:Memory Care
END:VEVENT
END:VCALENDAR