BEGIN:VCALENDAR
VERSION:2.0
PRODID:-//Kettle Park Senior Living - ECPv6.11.2.1//NONSGML v1.0//EN
CALSCALE:GREGORIAN
METHOD:PUBLISH
X-WR-CALNAME:Kettle Park Senior Living
X-ORIGINAL-URL:https://kettleparkseniorliving.com
X-WR-CALDESC:Events for Kettle Park Senior Living
REFRESH-INTERVAL;VALUE=DURATION:PT1H
X-Robots-Tag:noindex
X-PUBLISHED-TTL:PT1H
BEGIN:VTIMEZONE
TZID:America/Chicago
BEGIN:DAYLIGHT
TZOFFSETFROM:-0600
TZOFFSETTO:-0500
TZNAME:CDT
DTSTART:20250309T080000
END:DAYLIGHT
BEGIN:STANDARD
TZOFFSETFROM:-0500
TZOFFSETTO:-0600
TZNAME:CST
DTSTART:20251102T070000
END:STANDARD
END:VTIMEZONE
BEGIN:VEVENT
DTSTART;TZID=America/Chicago:20250627T150000
DTEND;TZID=America/Chicago:20250627T160000
DTSTAMP:20260425T212812
CREATED:20250530T210136Z
LAST-MODIFIED:20250604T211710Z
UID:10000808-1751036400-1751040000@kettleparkseniorliving.com
SUMMARY:Smoothies & Chat
DESCRIPTION:
URL:https://kettleparkseniorliving.com/event-calendar/smoothies-chat-45/
LOCATION:Lounge Area
CATEGORIES:Memory Care
END:VEVENT
BEGIN:VEVENT
DTSTART;TZID=America/Chicago:20250627T093000
DTEND;TZID=America/Chicago:20250627T100000
DTSTAMP:20260425T212812
CREATED:20250530T210136Z
LAST-MODIFIED:20250602T210501Z
UID:10000801-1751016600-1751018400@kettleparkseniorliving.com
SUMMARY:Get Fit
DESCRIPTION:
URL:https://kettleparkseniorliving.com/event-calendar/get-fit-82/
LOCATION:Lounge Area
CATEGORIES:Memory Care
END:VEVENT
BEGIN:VEVENT
DTSTART;TZID=America/Chicago:20250627T091500
DTEND;TZID=America/Chicago:20250627T093000
DTSTAMP:20260425T212812
CREATED:20250529T210146Z
LAST-MODIFIED:20250627T004709Z
UID:10000795-1751015700-1751016600@kettleparkseniorliving.com
SUMMARY:News/Current Events
DESCRIPTION:
URL:https://kettleparkseniorliving.com/event-calendar/news-current-events-44/
LOCATION:Lounge Area
CATEGORIES:Memory Care
END:VEVENT
BEGIN:VEVENT
DTSTART;TZID=America/Chicago:20250626T180000
DTEND;TZID=America/Chicago:20250626T190000
DTSTAMP:20260425T212812
CREATED:20250529T210146Z
LAST-MODIFIED:20250626T004635Z
UID:10000793-1750960800-1750964400@kettleparkseniorliving.com
SUMMARY:Active Game
DESCRIPTION:
URL:https://kettleparkseniorliving.com/event-calendar/active-game-28/
LOCATION:Lounge Area
CATEGORIES:Memory Care
END:VEVENT
BEGIN:VEVENT
DTSTART;TZID=America/Chicago:20250626T160000
DTEND;TZID=America/Chicago:20250626T170000
DTSTAMP:20260425T212812
CREATED:20250529T210146Z
LAST-MODIFIED:20250626T004637Z
UID:10000791-1750953600-1750957200@kettleparkseniorliving.com
SUMMARY:Move to the Music
DESCRIPTION:
URL:https://kettleparkseniorliving.com/event-calendar/move-to-the-music-13/
LOCATION:Lounge Area
CATEGORIES:Memory Care
END:VEVENT
BEGIN:VEVENT
DTSTART;TZID=America/Chicago:20250626T150000
DTEND;TZID=America/Chicago:20250626T160000
DTSTAMP:20260425T212812
CREATED:20250612T214633Z
LAST-MODIFIED:20250626T004637Z
UID:10001043-1750950000-1750953600@kettleparkseniorliving.com
SUMMARY:Smoothies & Chat
DESCRIPTION:
URL:https://kettleparkseniorliving.com/event-calendar/smoothies-chat-62/
LOCATION:Lounge Area
CATEGORIES:Memory Care
END:VEVENT
BEGIN:VEVENT
DTSTART;TZID=America/Chicago:20250626T150000
DTEND;TZID=America/Chicago:20250626T160000
DTSTAMP:20260425T212812
CREATED:20250529T210146Z
LAST-MODIFIED:20250604T211710Z
UID:10000792-1750950000-1750953600@kettleparkseniorliving.com
SUMMARY:Smoothies & Chat
DESCRIPTION:
URL:https://kettleparkseniorliving.com/event-calendar/smoothies-chat-44/
LOCATION:Lounge Area
CATEGORIES:Memory Care
END:VEVENT
BEGIN:VEVENT
DTSTART;TZID=America/Chicago:20250626T143000
DTEND;TZID=America/Chicago:20250626T150000
DTSTAMP:20260425T212812
CREATED:20250529T210146Z
LAST-MODIFIED:20250626T004637Z
UID:10000790-1750948200-1750950000@kettleparkseniorliving.com
SUMMARY:Reminisce
DESCRIPTION:
URL:https://kettleparkseniorliving.com/event-calendar/reminisce-14/
LOCATION:Lounge Area
CATEGORIES:Memory Care
END:VEVENT
BEGIN:VEVENT
DTSTART;TZID=America/Chicago:20250626T133000
DTEND;TZID=America/Chicago:20250626T143000
DTSTAMP:20260425T212812
CREATED:20250529T210145Z
LAST-MODIFIED:20250626T004637Z
UID:10000789-1750944600-1750948200@kettleparkseniorliving.com
SUMMARY:Balloon Games
DESCRIPTION:
URL:https://kettleparkseniorliving.com/event-calendar/balloon-games-7/
LOCATION:Lounge Area
CATEGORIES:Memory Care
END:VEVENT
BEGIN:VEVENT
DTSTART;TZID=America/Chicago:20250626T110000
DTEND;TZID=America/Chicago:20250626T120000
DTSTAMP:20260425T212812
CREATED:20250529T210145Z
LAST-MODIFIED:20250626T004637Z
UID:10000787-1750935600-1750939200@kettleparkseniorliving.com
SUMMARY:Dog Visits w/ Lucy and Tink
DESCRIPTION:
URL:https://kettleparkseniorliving.com/event-calendar/dog-visits-w-lucy-and-tink-13/
LOCATION:Lounge Area
CATEGORIES:Memory Care
END:VEVENT
BEGIN:VEVENT
DTSTART;TZID=America/Chicago:20250626T100000
DTEND;TZID=America/Chicago:20250626T110000
DTSTAMP:20260425T212812
CREATED:20250529T210145Z
LAST-MODIFIED:20250626T004637Z
UID:10000786-1750932000-1750935600@kettleparkseniorliving.com
SUMMARY:Linked Senior
DESCRIPTION:
URL:https://kettleparkseniorliving.com/event-calendar/linked-senior-7/
LOCATION:Lounge Area
CATEGORIES:Memory Care
END:VEVENT
BEGIN:VEVENT
DTSTART;TZID=America/Chicago:20250626T093000
DTEND;TZID=America/Chicago:20250626T100000
DTSTAMP:20260425T212812
CREATED:20250529T210145Z
LAST-MODIFIED:20250602T210455Z
UID:10000785-1750930200-1750932000@kettleparkseniorliving.com
SUMMARY:Get Fit
DESCRIPTION:
URL:https://kettleparkseniorliving.com/event-calendar/get-fit-81/
LOCATION:Lounge Area
CATEGORIES:Memory Care
END:VEVENT
BEGIN:VEVENT
DTSTART;TZID=America/Chicago:20250626T091500
DTEND;TZID=America/Chicago:20250626T093000
DTSTAMP:20260425T212812
CREATED:20250529T210145Z
LAST-MODIFIED:20250626T004637Z
UID:10000784-1750929300-1750930200@kettleparkseniorliving.com
SUMMARY:News/Current Events
DESCRIPTION:
URL:https://kettleparkseniorliving.com/event-calendar/news-current-events-43/
LOCATION:Lounge Area
CATEGORIES:Memory Care
END:VEVENT
BEGIN:VEVENT
DTSTART;TZID=America/Chicago:20250625T180000
DTEND;TZID=America/Chicago:20250625T190000
DTSTAMP:20260425T212812
CREATED:20250528T210309Z
LAST-MODIFIED:20250625T004624Z
UID:10000777-1750874400-1750878000@kettleparkseniorliving.com
SUMMARY:Reminisce
DESCRIPTION:
URL:https://kettleparkseniorliving.com/event-calendar/reminisce-13/
LOCATION:Lounge Area
CATEGORIES:Memory Care
END:VEVENT
BEGIN:VEVENT
DTSTART;TZID=America/Chicago:20250625T150000
DTEND;TZID=America/Chicago:20250625T160000
DTSTAMP:20260425T212812
CREATED:20250612T214633Z
LAST-MODIFIED:20250625T004626Z
UID:10001042-1750863600-1750867200@kettleparkseniorliving.com
SUMMARY:Smoothies & Chat
DESCRIPTION:
URL:https://kettleparkseniorliving.com/event-calendar/smoothies-chat-61/
LOCATION:Lounge Area
CATEGORIES:Memory Care
END:VEVENT
BEGIN:VEVENT
DTSTART;TZID=America/Chicago:20250625T150000
DTEND;TZID=America/Chicago:20250625T160000
DTSTAMP:20260425T212812
CREATED:20250528T210309Z
LAST-MODIFIED:20250604T211709Z
UID:10000775-1750863600-1750867200@kettleparkseniorliving.com
SUMMARY:Smoothies & Chat
DESCRIPTION:
URL:https://kettleparkseniorliving.com/event-calendar/smoothies-chat-43/
LOCATION:Lounge Area
CATEGORIES:Memory Care
END:VEVENT
BEGIN:VEVENT
DTSTART;TZID=America/Chicago:20250625T093000
DTEND;TZID=America/Chicago:20250625T100000
DTSTAMP:20260425T212812
CREATED:20250528T210309Z
LAST-MODIFIED:20250602T210448Z
UID:10000771-1750843800-1750845600@kettleparkseniorliving.com
SUMMARY:Get Fit
DESCRIPTION:
URL:https://kettleparkseniorliving.com/event-calendar/get-fit-80/
LOCATION:Lounge Area
CATEGORIES:Memory Care
END:VEVENT
BEGIN:VEVENT
DTSTART;TZID=America/Chicago:20250625T091500
DTEND;TZID=America/Chicago:20250625T093000
DTSTAMP:20260425T212812
CREATED:20250528T210309Z
LAST-MODIFIED:20250625T004625Z
UID:10000770-1750842900-1750843800@kettleparkseniorliving.com
SUMMARY:News/Current Events
DESCRIPTION:
URL:https://kettleparkseniorliving.com/event-calendar/news-current-events-42/
LOCATION:Lounge Area
CATEGORIES:Memory Care
END:VEVENT
BEGIN:VEVENT
DTSTART;TZID=America/Chicago:20250624T180000
DTEND;TZID=America/Chicago:20250624T190000
DTSTAMP:20260425T212812
CREATED:20250528T210309Z
LAST-MODIFIED:20250624T004628Z
UID:10000768-1750788000-1750791600@kettleparkseniorliving.com
SUMMARY:Fun with Trivia
DESCRIPTION:
URL:https://kettleparkseniorliving.com/event-calendar/fun-with-trivia-6/
LOCATION:Lounge Area
CATEGORIES:Memory Care
END:VEVENT
BEGIN:VEVENT
DTSTART;TZID=America/Chicago:20250624T160000
DTEND;TZID=America/Chicago:20250624T170000
DTSTAMP:20260425T212812
CREATED:20250528T210309Z
LAST-MODIFIED:20250624T004630Z
UID:10000767-1750780800-1750784400@kettleparkseniorliving.com
SUMMARY:Move to the Music
DESCRIPTION:
URL:https://kettleparkseniorliving.com/event-calendar/move-to-the-music-12/
LOCATION:Lounge Area
CATEGORIES:Memory Care
END:VEVENT
BEGIN:VEVENT
DTSTART;TZID=America/Chicago:20250624T150000
DTEND;TZID=America/Chicago:20250624T160000
DTSTAMP:20260425T212812
CREATED:20250612T214632Z
LAST-MODIFIED:20250624T004630Z
UID:10001041-1750777200-1750780800@kettleparkseniorliving.com
SUMMARY:Smoothies & Chat
DESCRIPTION:
URL:https://kettleparkseniorliving.com/event-calendar/smoothies-chat-60/
LOCATION:Lounge Area
CATEGORIES:Memory Care
END:VEVENT
BEGIN:VEVENT
DTSTART;TZID=America/Chicago:20250624T150000
DTEND;TZID=America/Chicago:20250624T160000
DTSTAMP:20260425T212812
CREATED:20250528T210309Z
LAST-MODIFIED:20250604T211708Z
UID:10000766-1750777200-1750780800@kettleparkseniorliving.com
SUMMARY:Smoothies & Chat
DESCRIPTION:
URL:https://kettleparkseniorliving.com/event-calendar/smoothies-chat-42/
LOCATION:Lounge Area
CATEGORIES:Memory Care
END:VEVENT
BEGIN:VEVENT
DTSTART;TZID=America/Chicago:20250624T140000
DTEND;TZID=America/Chicago:20250624T150000
DTSTAMP:20260425T212812
CREATED:20250528T210308Z
LAST-MODIFIED:20250624T004630Z
UID:10000765-1750773600-1750777200@kettleparkseniorliving.com
SUMMARY:Active Game
DESCRIPTION:
URL:https://kettleparkseniorliving.com/event-calendar/active-game-27/
LOCATION:Lounge Area
CATEGORIES:Memory Care
END:VEVENT
BEGIN:VEVENT
DTSTART;TZID=America/Chicago:20250624T133000
DTEND;TZID=America/Chicago:20250624T140000
DTSTAMP:20260425T212812
CREATED:20250528T210308Z
LAST-MODIFIED:20250624T004630Z
UID:10000764-1750771800-1750773600@kettleparkseniorliving.com
SUMMARY:Matching & Puzzles
DESCRIPTION:
URL:https://kettleparkseniorliving.com/event-calendar/matching-puzzles-8/
LOCATION:Lounge Area
CATEGORIES:Memory Care
END:VEVENT
BEGIN:VEVENT
DTSTART;TZID=America/Chicago:20250624T130000
DTEND;TZID=America/Chicago:20250624T140000
DTSTAMP:20260425T212812
CREATED:20250528T210308Z
LAST-MODIFIED:20250624T004630Z
UID:10000763-1750770000-1750773600@kettleparkseniorliving.com
SUMMARY:Devotions with Chaplin Lee
DESCRIPTION:
URL:https://kettleparkseniorliving.com/event-calendar/devotions-with-chaplin-lee-10/
LOCATION:Lounge Area
CATEGORIES:Memory Care
END:VEVENT
BEGIN:VEVENT
DTSTART;TZID=America/Chicago:20250624T110000
DTEND;TZID=America/Chicago:20250624T120000
DTSTAMP:20260425T212812
CREATED:20250528T210308Z
LAST-MODIFIED:20250624T004630Z
UID:10000759-1750762800-1750766400@kettleparkseniorliving.com
SUMMARY:Dog Visits w/ Lucy and Tink
DESCRIPTION:
URL:https://kettleparkseniorliving.com/event-calendar/dog-visits-w-lucy-and-tink-12/
LOCATION:Lounge Area
CATEGORIES:Memory Care
END:VEVENT
BEGIN:VEVENT
DTSTART;TZID=America/Chicago:20250624T093000
DTEND;TZID=America/Chicago:20250624T110000
DTSTAMP:20260425T212812
CREATED:20250528T210308Z
LAST-MODIFIED:20250624T004630Z
UID:10000760-1750757400-1750762800@kettleparkseniorliving.com
SUMMARY:Reading w/ Kathy
DESCRIPTION:
URL:https://kettleparkseniorliving.com/event-calendar/reading-w-kathy-6/
LOCATION:Lounge Area
CATEGORIES:Memory Care
END:VEVENT
BEGIN:VEVENT
DTSTART;TZID=America/Chicago:20250624T091500
DTEND;TZID=America/Chicago:20250624T093000
DTSTAMP:20260425T212812
CREATED:20250528T210308Z
LAST-MODIFIED:20250624T004630Z
UID:10000761-1750756500-1750757400@kettleparkseniorliving.com
SUMMARY:News/Current Events
DESCRIPTION:
URL:https://kettleparkseniorliving.com/event-calendar/news-current-events-41/
LOCATION:Lounge Area
CATEGORIES:Memory Care
END:VEVENT
BEGIN:VEVENT
DTSTART;TZID=America/Chicago:20250623T180000
DTEND;TZID=America/Chicago:20250623T190000
DTSTAMP:20260425T212812
CREATED:20250528T210308Z
LAST-MODIFIED:20250623T004620Z
UID:10000757-1750701600-1750705200@kettleparkseniorliving.com
SUMMARY:Finish the Phrase
DESCRIPTION:
URL:https://kettleparkseniorliving.com/event-calendar/finish-the-phrase-6/
LOCATION:Lounge Area
CATEGORIES:Memory Care
END:VEVENT
BEGIN:VEVENT
DTSTART;TZID=America/Chicago:20250623T150000
DTEND;TZID=America/Chicago:20250623T160000
DTSTAMP:20260425T212812
CREATED:20250528T210308Z
LAST-MODIFIED:20250623T004622Z
UID:10000755-1750690800-1750694400@kettleparkseniorliving.com
SUMMARY:Happy Hour
DESCRIPTION:
URL:https://kettleparkseniorliving.com/event-calendar/smoothies-chat-41/
LOCATION:Lounge Area
CATEGORIES:Memory Care
END:VEVENT
END:VCALENDAR