BEGIN:VCALENDAR
VERSION:2.0
PRODID:-//Kettle Park Senior Living - ECPv6.11.2.1//NONSGML v1.0//EN
CALSCALE:GREGORIAN
METHOD:PUBLISH
X-ORIGINAL-URL:https://kettleparkseniorliving.com
X-WR-CALDESC:Events for Kettle Park Senior Living
REFRESH-INTERVAL;VALUE=DURATION:PT1H
X-Robots-Tag:noindex
X-PUBLISHED-TTL:PT1H
BEGIN:VTIMEZONE
TZID:America/Chicago
BEGIN:DAYLIGHT
TZOFFSETFROM:-0600
TZOFFSETTO:-0500
TZNAME:CDT
DTSTART:20250309T080000
END:DAYLIGHT
BEGIN:STANDARD
TZOFFSETFROM:-0500
TZOFFSETTO:-0600
TZNAME:CST
DTSTART:20251102T070000
END:STANDARD
END:VTIMEZONE
BEGIN:VEVENT
DTSTART;TZID=America/Chicago:20251116T143000
DTEND;TZID=America/Chicago:20251116T150000
DTSTAMP:20260419T192615
CREATED:20251018T060131Z
LAST-MODIFIED:20251116T070145Z
UID:10003347-1763303400-1763305200@kettleparkseniorliving.com
SUMMARY:Active Game
DESCRIPTION:
URL:https://kettleparkseniorliving.com/event-calendar/active-game-103/
LOCATION:Lounge Area
CATEGORIES:Memory Care
END:VEVENT
BEGIN:VEVENT
DTSTART;TZID=America/Chicago:20251116T133000
DTEND;TZID=America/Chicago:20251116T143000
DTSTAMP:20260419T192615
CREATED:20251018T060131Z
LAST-MODIFIED:20251116T070145Z
UID:10003346-1763299800-1763303400@kettleparkseniorliving.com
SUMMARY:Word Games
DESCRIPTION:
URL:https://kettleparkseniorliving.com/event-calendar/word-games-27/
LOCATION:Lounge Area
CATEGORIES:Memory Care
END:VEVENT
BEGIN:VEVENT
DTSTART;TZID=America/Chicago:20251116T103000
DTEND;TZID=America/Chicago:20251116T113000
DTSTAMP:20260419T192615
CREATED:20251018T060131Z
LAST-MODIFIED:20251116T070145Z
UID:10003342-1763289000-1763292600@kettleparkseniorliving.com
SUMMARY:Hymn Sing
DESCRIPTION:
URL:https://kettleparkseniorliving.com/event-calendar/hymn-sing-39/
LOCATION:Lounge Area
CATEGORIES:Memory Care
END:VEVENT
BEGIN:VEVENT
DTSTART;TZID=America/Chicago:20251116T100000
DTEND;TZID=America/Chicago:20251116T103000
DTSTAMP:20260419T192615
CREATED:20251018T060131Z
LAST-MODIFIED:20251116T070145Z
UID:10003343-1763287200-1763289000@kettleparkseniorliving.com
SUMMARY:TV Church Service
DESCRIPTION:
URL:https://kettleparkseniorliving.com/event-calendar/tv-church-service-27/
LOCATION:Lounge Area
CATEGORIES:Memory Care
END:VEVENT
BEGIN:VEVENT
DTSTART;TZID=America/Chicago:20251116T093000
DTEND;TZID=America/Chicago:20251116T100000
DTSTAMP:20260419T192615
CREATED:20251018T060131Z
LAST-MODIFIED:20251116T070145Z
UID:10003344-1763285400-1763287200@kettleparkseniorliving.com
SUMMARY:Get Fit
DESCRIPTION:
URL:https://kettleparkseniorliving.com/event-calendar/get-fit-247/
LOCATION:Lounge Area
CATEGORIES:Memory Care
END:VEVENT
BEGIN:VEVENT
DTSTART;TZID=America/Chicago:20251116T091500
DTEND;TZID=America/Chicago:20251116T093000
DTSTAMP:20260419T192615
CREATED:20251018T060131Z
LAST-MODIFIED:20251116T070145Z
UID:10003341-1763284500-1763285400@kettleparkseniorliving.com
SUMMARY:News/Current Events
DESCRIPTION:
URL:https://kettleparkseniorliving.com/event-calendar/news-current-events-186/
LOCATION:Lounge Area
CATEGORIES:Memory Care
END:VEVENT
BEGIN:VEVENT
DTSTART;TZID=America/Chicago:20251115T150000
DTEND;TZID=America/Chicago:20251115T160000
DTSTAMP:20260419T192615
CREATED:20251017T060133Z
LAST-MODIFIED:20251115T070120Z
UID:10003335-1763218800-1763222400@kettleparkseniorliving.com
SUMMARY:Snack & Chat
DESCRIPTION:
URL:https://kettleparkseniorliving.com/event-calendar/snack-chat-101/
LOCATION:Lounge Area
CATEGORIES:Memory Care
END:VEVENT
BEGIN:VEVENT
DTSTART;TZID=America/Chicago:20251115T093000
DTEND;TZID=America/Chicago:20251115T100000
DTSTAMP:20260419T192615
CREATED:20251017T060132Z
LAST-MODIFIED:20251115T070120Z
UID:10003332-1763199000-1763200800@kettleparkseniorliving.com
SUMMARY:Get Fit
DESCRIPTION:
URL:https://kettleparkseniorliving.com/event-calendar/get-fit-246/
LOCATION:Lounge Area
CATEGORIES:Memory Care
END:VEVENT
BEGIN:VEVENT
DTSTART;TZID=America/Chicago:20251115T091500
DTEND;TZID=America/Chicago:20251115T093000
DTSTAMP:20260419T192615
CREATED:20251017T060132Z
LAST-MODIFIED:20251115T070120Z
UID:10003331-1763198100-1763199000@kettleparkseniorliving.com
SUMMARY:News/Current Events
DESCRIPTION:
URL:https://kettleparkseniorliving.com/event-calendar/news-current-events-185/
LOCATION:Lounge Area
CATEGORIES:Memory Care
END:VEVENT
BEGIN:VEVENT
DTSTART;TZID=America/Chicago:20251114T150000
DTEND;TZID=America/Chicago:20251114T160000
DTSTAMP:20260419T192615
CREATED:20251016T060131Z
LAST-MODIFIED:20251114T070123Z
UID:10003322-1763132400-1763136000@kettleparkseniorliving.com
SUMMARY:Snack & Chat
DESCRIPTION:
URL:https://kettleparkseniorliving.com/event-calendar/snack-chat-100/
LOCATION:Lounge Area
CATEGORIES:Memory Care
END:VEVENT
BEGIN:VEVENT
DTSTART;TZID=America/Chicago:20251114T093000
DTEND;TZID=America/Chicago:20251114T100000
DTSTAMP:20260419T192615
CREATED:20251016T060130Z
LAST-MODIFIED:20251114T070123Z
UID:10003317-1763112600-1763114400@kettleparkseniorliving.com
SUMMARY:Get Fit
DESCRIPTION:
URL:https://kettleparkseniorliving.com/event-calendar/get-fit-245/
LOCATION:Lounge Area
CATEGORIES:Memory Care
END:VEVENT
BEGIN:VEVENT
DTSTART;TZID=America/Chicago:20251114T091500
DTEND;TZID=America/Chicago:20251114T093000
DTSTAMP:20260419T192615
CREATED:20251016T060130Z
LAST-MODIFIED:20251114T070123Z
UID:10003316-1763111700-1763112600@kettleparkseniorliving.com
SUMMARY:News/Current Events
DESCRIPTION:
URL:https://kettleparkseniorliving.com/event-calendar/news-current-events-184/
LOCATION:Lounge Area
CATEGORIES:Memory Care
END:VEVENT
BEGIN:VEVENT
DTSTART;TZID=America/Chicago:20251113T150000
DTEND;TZID=America/Chicago:20251113T160000
DTSTAMP:20260419T192616
CREATED:20251015T060131Z
LAST-MODIFIED:20251113T070131Z
UID:10003306-1763046000-1763049600@kettleparkseniorliving.com
SUMMARY:Snack & Chat
DESCRIPTION:
URL:https://kettleparkseniorliving.com/event-calendar/snack-chat-99/
LOCATION:Lounge Area
CATEGORIES:Memory Care
END:VEVENT
BEGIN:VEVENT
DTSTART;TZID=America/Chicago:20251113T133000
DTEND;TZID=America/Chicago:20251113T150000
DTSTAMP:20260419T192616
CREATED:20251024T063151Z
LAST-MODIFIED:20251113T070131Z
UID:10003440-1763040600-1763046000@kettleparkseniorliving.com
SUMMARY:Bowling
DESCRIPTION:
URL:https://kettleparkseniorliving.com/event-calendar/bowling-6/
LOCATION:Lounge Area
CATEGORIES:Memory Care
END:VEVENT
BEGIN:VEVENT
DTSTART;TZID=America/Chicago:20251113T110000
DTEND;TZID=America/Chicago:20251113T120000
DTSTAMP:20260419T192616
CREATED:20251015T060131Z
LAST-MODIFIED:20251113T070131Z
UID:10003304-1763031600-1763035200@kettleparkseniorliving.com
SUMMARY:Dog Visits w/ Lucy and Tink
DESCRIPTION:
URL:https://kettleparkseniorliving.com/event-calendar/dog-visits-w-lucy-and-tink-53/
LOCATION:Lounge Area
CATEGORIES:Memory Care
END:VEVENT
BEGIN:VEVENT
DTSTART;TZID=America/Chicago:20251113T100000
DTEND;TZID=America/Chicago:20251113T110000
DTSTAMP:20260419T192616
CREATED:20251015T060131Z
LAST-MODIFIED:20251113T070131Z
UID:10003303-1763028000-1763031600@kettleparkseniorliving.com
SUMMARY:Linked Senior
DESCRIPTION:
URL:https://kettleparkseniorliving.com/event-calendar/linked-senior-27/
LOCATION:Lounge Area
CATEGORIES:Memory Care
END:VEVENT
BEGIN:VEVENT
DTSTART;TZID=America/Chicago:20251113T093000
DTEND;TZID=America/Chicago:20251113T100000
DTSTAMP:20260419T192616
CREATED:20251015T060131Z
LAST-MODIFIED:20251113T070131Z
UID:10003302-1763026200-1763028000@kettleparkseniorliving.com
SUMMARY:Get Fit
DESCRIPTION:
URL:https://kettleparkseniorliving.com/event-calendar/get-fit-244/
LOCATION:Lounge Area
CATEGORIES:Memory Care
END:VEVENT
BEGIN:VEVENT
DTSTART;TZID=America/Chicago:20251113T091500
DTEND;TZID=America/Chicago:20251113T093000
DTSTAMP:20260419T192616
CREATED:20251015T060131Z
LAST-MODIFIED:20251113T070131Z
UID:10003301-1763025300-1763026200@kettleparkseniorliving.com
SUMMARY:News/Current Events
DESCRIPTION:
URL:https://kettleparkseniorliving.com/event-calendar/news-current-events-183/
LOCATION:Lounge Area
CATEGORIES:Memory Care
END:VEVENT
BEGIN:VEVENT
DTSTART;TZID=America/Chicago:20251112T180000
DTEND;TZID=America/Chicago:20251112T190000
DTSTAMP:20260419T192616
CREATED:20251014T055229Z
LAST-MODIFIED:20251112T070122Z
UID:10003295-1762970400-1762974000@kettleparkseniorliving.com
SUMMARY:Reminisce
DESCRIPTION:
URL:https://kettleparkseniorliving.com/event-calendar/reminisce-51/
LOCATION:Lounge Area
CATEGORIES:Memory Care
END:VEVENT
BEGIN:VEVENT
DTSTART;TZID=America/Chicago:20251112T153000
DTEND;TZID=America/Chicago:20251112T161500
DTSTAMP:20260419T192616
CREATED:20251107T070122Z
LAST-MODIFIED:20251112T070122Z
UID:10003652-1762961400-1762964100@kettleparkseniorliving.com
SUMMARY:Chicken Soup for the Soul
DESCRIPTION:
URL:https://kettleparkseniorliving.com/event-calendar/chicken-soup-for-the-soul/
LOCATION:Lounge Area
CATEGORIES:Memory Care
END:VEVENT
BEGIN:VEVENT
DTSTART;TZID=America/Chicago:20251112T150000
DTEND;TZID=America/Chicago:20251112T160000
DTSTAMP:20260419T192616
CREATED:20251014T055229Z
LAST-MODIFIED:20251112T070122Z
UID:10003293-1762959600-1762963200@kettleparkseniorliving.com
SUMMARY:Snack & Chat
DESCRIPTION:
URL:https://kettleparkseniorliving.com/event-calendar/snack-chat-98/
LOCATION:Lounge Area
CATEGORIES:Memory Care
END:VEVENT
BEGIN:VEVENT
DTSTART;TZID=America/Chicago:20251112T133000
DTEND;TZID=America/Chicago:20251112T143000
DTSTAMP:20260419T192616
CREATED:20251106T070123Z
LAST-MODIFIED:20251112T070122Z
UID:10003633-1762954200-1762957800@kettleparkseniorliving.com
SUMMARY:Bean Bags
DESCRIPTION:
URL:https://kettleparkseniorliving.com/event-calendar/bean-bags/
LOCATION:Lounge Area
CATEGORIES:Memory Care
END:VEVENT
BEGIN:VEVENT
DTSTART;TZID=America/Chicago:20251112T093000
DTEND;TZID=America/Chicago:20251112T100000
DTSTAMP:20260419T192616
CREATED:20251014T055228Z
LAST-MODIFIED:20251112T070122Z
UID:10003290-1762939800-1762941600@kettleparkseniorliving.com
SUMMARY:Get Fit
DESCRIPTION:
URL:https://kettleparkseniorliving.com/event-calendar/get-fit-243/
LOCATION:Lounge Area
CATEGORIES:Memory Care
END:VEVENT
BEGIN:VEVENT
DTSTART;TZID=America/Chicago:20251112T091500
DTEND;TZID=America/Chicago:20251112T093000
DTSTAMP:20260419T192616
CREATED:20251014T055228Z
LAST-MODIFIED:20251112T070122Z
UID:10003289-1762938900-1762939800@kettleparkseniorliving.com
SUMMARY:News/Current Events
DESCRIPTION:
URL:https://kettleparkseniorliving.com/event-calendar/news-current-events-182/
LOCATION:Lounge Area
CATEGORIES:Memory Care
END:VEVENT
BEGIN:VEVENT
DTSTART;TZID=America/Chicago:20251111T150000
DTEND;TZID=America/Chicago:20251111T160000
DTSTAMP:20260419T192616
CREATED:20251013T054632Z
LAST-MODIFIED:20251111T070125Z
UID:10003273-1762873200-1762876800@kettleparkseniorliving.com
SUMMARY:Snack & Chat
DESCRIPTION:
URL:https://kettleparkseniorliving.com/event-calendar/snack-chat-97/
LOCATION:Lounge Area
CATEGORIES:Memory Care
END:VEVENT
BEGIN:VEVENT
DTSTART;TZID=America/Chicago:20251111T133000
DTEND;TZID=America/Chicago:20251111T143000
DTSTAMP:20260419T192616
CREATED:20251013T054632Z
LAST-MODIFIED:20251106T070122Z
UID:10003272-1762867800-1762871400@kettleparkseniorliving.com
SUMMARY:Active Game
DESCRIPTION:
URL:https://kettleparkseniorliving.com/event-calendar/active-game-101/
LOCATION:Lounge Area
CATEGORIES:Memory Care
END:VEVENT
BEGIN:VEVENT
DTSTART;TZID=America/Chicago:20251111T130000
DTEND;TZID=America/Chicago:20251111T140000
DTSTAMP:20260419T192616
CREATED:20251013T054632Z
LAST-MODIFIED:20251111T070125Z
UID:10003271-1762866000-1762869600@kettleparkseniorliving.com
SUMMARY:Devotions with Chaplin Lee
DESCRIPTION:
URL:https://kettleparkseniorliving.com/event-calendar/devotions-with-chaplin-lee-51/
LOCATION:Lounge Area
CATEGORIES:Memory Care
END:VEVENT
BEGIN:VEVENT
DTSTART;TZID=America/Chicago:20251111T110000
DTEND;TZID=America/Chicago:20251111T120000
DTSTAMP:20260419T192616
CREATED:20251013T054632Z
LAST-MODIFIED:20251111T070125Z
UID:10003269-1762858800-1762862400@kettleparkseniorliving.com
SUMMARY:Dog Visits w/ Lucy and Tink
DESCRIPTION:
URL:https://kettleparkseniorliving.com/event-calendar/dog-visits-w-lucy-and-tink-52/
LOCATION:Lounge Area
CATEGORIES:Memory Care
END:VEVENT
BEGIN:VEVENT
DTSTART;TZID=America/Chicago:20251111T100000
DTEND;TZID=America/Chicago:20251111T110000
DTSTAMP:20260419T192616
CREATED:20251013T054632Z
LAST-MODIFIED:20251111T070125Z
UID:10003267-1762855200-1762858800@kettleparkseniorliving.com
SUMMARY:Activities with Kathy
DESCRIPTION:
URL:https://kettleparkseniorliving.com/event-calendar/activities-with-kathy-2/
LOCATION:Lounge Area
CATEGORIES:Memory Care
END:VEVENT
BEGIN:VEVENT
DTSTART;TZID=America/Chicago:20251111T093000
DTEND;TZID=America/Chicago:20251111T100000
DTSTAMP:20260419T192616
CREATED:20251013T054632Z
LAST-MODIFIED:20251111T070125Z
UID:10003268-1762853400-1762855200@kettleparkseniorliving.com
SUMMARY:Get Fit
DESCRIPTION:
URL:https://kettleparkseniorliving.com/event-calendar/get-fit-242/
LOCATION:Lounge Area
CATEGORIES:Memory Care
END:VEVENT
END:VCALENDAR