BEGIN:VCALENDAR
VERSION:2.0
PRODID:-//Kettle Park Senior Living - ECPv6.11.2.1//NONSGML v1.0//EN
CALSCALE:GREGORIAN
METHOD:PUBLISH
X-ORIGINAL-URL:https://kettleparkseniorliving.com
X-WR-CALDESC:Events for Kettle Park Senior Living
REFRESH-INTERVAL;VALUE=DURATION:PT1H
X-Robots-Tag:noindex
X-PUBLISHED-TTL:PT1H
BEGIN:VTIMEZONE
TZID:America/Chicago
BEGIN:DAYLIGHT
TZOFFSETFROM:-0600
TZOFFSETTO:-0500
TZNAME:CDT
DTSTART:20250309T080000
END:DAYLIGHT
BEGIN:STANDARD
TZOFFSETFROM:-0500
TZOFFSETTO:-0600
TZNAME:CST
DTSTART:20251102T070000
END:STANDARD
END:VTIMEZONE
BEGIN:VEVENT
DTSTART;TZID=America/Chicago:20251104T133000
DTEND;TZID=America/Chicago:20251104T143000
DTSTAMP:20260420T050318
CREATED:20251011T053128Z
LAST-MODIFIED:20251104T070121Z
UID:10003233-1762263000-1762266600@kettleparkseniorliving.com
SUMMARY:Active Game
DESCRIPTION:
URL:https://kettleparkseniorliving.com/event-calendar/active-game-99/
LOCATION:Lounge Area
CATEGORIES:Memory Care
END:VEVENT
BEGIN:VEVENT
DTSTART;TZID=America/Chicago:20251104T130000
DTEND;TZID=America/Chicago:20251104T140000
DTSTAMP:20260420T050318
CREATED:20251006T053141Z
LAST-MODIFIED:20251104T070121Z
UID:10003147-1762261200-1762264800@kettleparkseniorliving.com
SUMMARY:Devotions with Chaplin Lee
DESCRIPTION:
URL:https://kettleparkseniorliving.com/event-calendar/devotions-with-chaplin-lee-49/
LOCATION:Lounge Area
CATEGORIES:Memory Care
END:VEVENT
BEGIN:VEVENT
DTSTART;TZID=America/Chicago:20251104T110000
DTEND;TZID=America/Chicago:20251104T120000
DTSTAMP:20260420T050318
CREATED:20251006T053140Z
LAST-MODIFIED:20251104T070121Z
UID:10003142-1762254000-1762257600@kettleparkseniorliving.com
SUMMARY:Dog Visits w/ Lucy and Tink
DESCRIPTION:
URL:https://kettleparkseniorliving.com/event-calendar/dog-visits-w-lucy-and-tink-50/
LOCATION:Lounge Area
CATEGORIES:Memory Care
END:VEVENT
BEGIN:VEVENT
DTSTART;TZID=America/Chicago:20251104T100000
DTEND;TZID=America/Chicago:20251104T110000
DTSTAMP:20260420T050318
CREATED:20251006T053140Z
LAST-MODIFIED:20251104T070121Z
UID:10003143-1762250400-1762254000@kettleparkseniorliving.com
SUMMARY:Activities with Kathy
DESCRIPTION:
URL:https://kettleparkseniorliving.com/event-calendar/activities-with-kathy/
LOCATION:Lounge Area
CATEGORIES:Memory Care
END:VEVENT
BEGIN:VEVENT
DTSTART;TZID=America/Chicago:20251104T093000
DTEND;TZID=America/Chicago:20251104T100000
DTSTAMP:20260420T050318
CREATED:20251006T053140Z
LAST-MODIFIED:20251104T070121Z
UID:10003144-1762248600-1762250400@kettleparkseniorliving.com
SUMMARY:Get Fit
DESCRIPTION:
URL:https://kettleparkseniorliving.com/event-calendar/get-fit-235/
LOCATION:Lounge Area
CATEGORIES:Memory Care
END:VEVENT
BEGIN:VEVENT
DTSTART;TZID=America/Chicago:20251104T091500
DTEND;TZID=America/Chicago:20251104T093000
DTSTAMP:20260420T050318
CREATED:20251006T053140Z
LAST-MODIFIED:20251104T070121Z
UID:10003145-1762247700-1762248600@kettleparkseniorliving.com
SUMMARY:News/Current Events
DESCRIPTION:
URL:https://kettleparkseniorliving.com/event-calendar/news-current-events-174/
LOCATION:Lounge Area
CATEGORIES:Memory Care
END:VEVENT
BEGIN:VEVENT
DTSTART;TZID=America/Chicago:20251103T150000
DTEND;TZID=America/Chicago:20251103T160000
DTSTAMP:20260420T050318
CREATED:20251005T053138Z
LAST-MODIFIED:20251103T070121Z
UID:10003133-1762182000-1762185600@kettleparkseniorliving.com
SUMMARY:Happy Hour
DESCRIPTION:
URL:https://kettleparkseniorliving.com/event-calendar/happy-hour-45/
LOCATION:Lounge Area
CATEGORIES:Memory Care
END:VEVENT
BEGIN:VEVENT
DTSTART;TZID=America/Chicago:20251103T134500
DTEND;TZID=America/Chicago:20251103T143000
DTSTAMP:20260420T050318
CREATED:20251005T053138Z
LAST-MODIFIED:20251103T070121Z
UID:10003131-1762177500-1762180200@kettleparkseniorliving.com
SUMMARY:UMC Devotions
DESCRIPTION:
URL:https://kettleparkseniorliving.com/event-calendar/umc-devotions-53/
LOCATION:Lounge Area
CATEGORIES:Memory Care
END:VEVENT
BEGIN:VEVENT
DTSTART;TZID=America/Chicago:20251103T093000
DTEND;TZID=America/Chicago:20251103T100000
DTSTAMP:20260420T050318
CREATED:20251005T053137Z
LAST-MODIFIED:20251103T070121Z
UID:10003128-1762162200-1762164000@kettleparkseniorliving.com
SUMMARY:Get Fit
DESCRIPTION:
URL:https://kettleparkseniorliving.com/event-calendar/get-fit-234/
LOCATION:Lounge Area
CATEGORIES:Memory Care
END:VEVENT
BEGIN:VEVENT
DTSTART;TZID=America/Chicago:20251103T091500
DTEND;TZID=America/Chicago:20251103T093000
DTSTAMP:20260420T050318
CREATED:20251005T053137Z
LAST-MODIFIED:20251103T070121Z
UID:10003127-1762161300-1762162200@kettleparkseniorliving.com
SUMMARY:News/Current Events
DESCRIPTION:
URL:https://kettleparkseniorliving.com/event-calendar/news-current-events-173/
LOCATION:Lounge Area
CATEGORIES:Memory Care
END:VEVENT
BEGIN:VEVENT
DTSTART;TZID=America/Chicago:20251102T180000
DTEND;TZID=America/Chicago:20251102T193000
DTSTAMP:20260420T050318
CREATED:20251004T053131Z
LAST-MODIFIED:20251102T060122Z
UID:10003120-1762106400-1762111800@kettleparkseniorliving.com
SUMMARY:Active Games
DESCRIPTION:
URL:https://kettleparkseniorliving.com/event-calendar/active-games-25/
LOCATION:Lounge Area
CATEGORIES:Memory Care
END:VEVENT
BEGIN:VEVENT
DTSTART;TZID=America/Chicago:20251102T150000
DTEND;TZID=America/Chicago:20251102T160000
DTSTAMP:20260420T050318
CREATED:20251004T053131Z
LAST-MODIFIED:20251102T060123Z
UID:10003118-1762095600-1762099200@kettleparkseniorliving.com
SUMMARY:Snack & Chat
DESCRIPTION:
URL:https://kettleparkseniorliving.com/event-calendar/snack-chat-90/
LOCATION:Lounge Area
CATEGORIES:Memory Care
END:VEVENT
BEGIN:VEVENT
DTSTART;TZID=America/Chicago:20251102T143000
DTEND;TZID=America/Chicago:20251102T150000
DTSTAMP:20260420T050318
CREATED:20251004T053131Z
LAST-MODIFIED:20251102T060123Z
UID:10003117-1762093800-1762095600@kettleparkseniorliving.com
SUMMARY:Active Game
DESCRIPTION:
URL:https://kettleparkseniorliving.com/event-calendar/active-game-94/
LOCATION:Lounge Area
CATEGORIES:Memory Care
END:VEVENT
BEGIN:VEVENT
DTSTART;TZID=America/Chicago:20251102T133000
DTEND;TZID=America/Chicago:20251102T143000
DTSTAMP:20260420T050318
CREATED:20251004T053131Z
LAST-MODIFIED:20251102T060123Z
UID:10003116-1762090200-1762093800@kettleparkseniorliving.com
SUMMARY:Word Games
DESCRIPTION:
URL:https://kettleparkseniorliving.com/event-calendar/word-games-25/
LOCATION:Lounge Area
CATEGORIES:Memory Care
END:VEVENT
BEGIN:VEVENT
DTSTART;TZID=America/Chicago:20251102T103000
DTEND;TZID=America/Chicago:20251102T113000
DTSTAMP:20260420T050318
CREATED:20251004T053130Z
LAST-MODIFIED:20251102T060123Z
UID:10003112-1762079400-1762083000@kettleparkseniorliving.com
SUMMARY:Hymn Sing
DESCRIPTION:
URL:https://kettleparkseniorliving.com/event-calendar/hymn-sing-37/
LOCATION:Lounge Area
CATEGORIES:Memory Care
END:VEVENT
BEGIN:VEVENT
DTSTART;TZID=America/Chicago:20251102T100000
DTEND;TZID=America/Chicago:20251102T103000
DTSTAMP:20260420T050318
CREATED:20251004T053130Z
LAST-MODIFIED:20251102T060123Z
UID:10003113-1762077600-1762079400@kettleparkseniorliving.com
SUMMARY:TV Church Service
DESCRIPTION:
URL:https://kettleparkseniorliving.com/event-calendar/tv-church-service-25/
LOCATION:Lounge Area
CATEGORIES:Memory Care
END:VEVENT
BEGIN:VEVENT
DTSTART;TZID=America/Chicago:20251102T093000
DTEND;TZID=America/Chicago:20251102T100000
DTSTAMP:20260420T050318
CREATED:20251004T053130Z
LAST-MODIFIED:20251102T060123Z
UID:10003114-1762075800-1762077600@kettleparkseniorliving.com
SUMMARY:Get Fit
DESCRIPTION:
URL:https://kettleparkseniorliving.com/event-calendar/get-fit-233/
LOCATION:Lounge Area
CATEGORIES:Memory Care
END:VEVENT
BEGIN:VEVENT
DTSTART;TZID=America/Chicago:20251102T091500
DTEND;TZID=America/Chicago:20251102T093000
DTSTAMP:20260420T050318
CREATED:20251004T053130Z
LAST-MODIFIED:20251102T060123Z
UID:10003111-1762074900-1762075800@kettleparkseniorliving.com
SUMMARY:News/Current Events
DESCRIPTION:
URL:https://kettleparkseniorliving.com/event-calendar/news-current-events-172/
LOCATION:Lounge Area
CATEGORIES:Memory Care
END:VEVENT
BEGIN:VEVENT
DTSTART;TZID=America/Chicago:20251101T150000
DTEND;TZID=America/Chicago:20251101T160000
DTSTAMP:20260420T050318
CREATED:20251003T053133Z
LAST-MODIFIED:20251101T064623Z
UID:10003073-1762009200-1762012800@kettleparkseniorliving.com
SUMMARY:Snack & Chat
DESCRIPTION:
URL:https://kettleparkseniorliving.com/event-calendar/snack-chat-89/
LOCATION:Lounge Area
CATEGORIES:Memory Care
END:VEVENT
BEGIN:VEVENT
DTSTART;TZID=America/Chicago:20251101T093000
DTEND;TZID=America/Chicago:20251101T100000
DTSTAMP:20260420T050318
CREATED:20251003T053133Z
LAST-MODIFIED:20251101T064623Z
UID:10003071-1761989400-1761991200@kettleparkseniorliving.com
SUMMARY:Get Fit
DESCRIPTION:
URL:https://kettleparkseniorliving.com/event-calendar/get-fit-232/
LOCATION:Lounge Area
CATEGORIES:Memory Care
END:VEVENT
BEGIN:VEVENT
DTSTART;TZID=America/Chicago:20251101T091500
DTEND;TZID=America/Chicago:20251101T093000
DTSTAMP:20260420T050318
CREATED:20251003T053133Z
LAST-MODIFIED:20251101T064623Z
UID:10003070-1761988500-1761989400@kettleparkseniorliving.com
SUMMARY:News/Current Events
DESCRIPTION:
URL:https://kettleparkseniorliving.com/event-calendar/news-current-events-171/
LOCATION:Lounge Area
CATEGORIES:Memory Care
END:VEVENT
BEGIN:VEVENT
DTSTART;TZID=America/Chicago:20251031T180000
DTEND;TZID=America/Chicago:20251031T193000
DTSTAMP:20260420T050318
CREATED:20251002T053135Z
LAST-MODIFIED:20251031T064622Z
UID:10003066-1761933600-1761939000@kettleparkseniorliving.com
SUMMARY:Friday Night Movie
DESCRIPTION:
URL:https://kettleparkseniorliving.com/event-calendar/friday-night-movie-50/
LOCATION:Lounge Area
CATEGORIES:Memory Care
END:VEVENT
BEGIN:VEVENT
DTSTART;TZID=America/Chicago:20251031T150000
DTEND;TZID=America/Chicago:20251031T160000
DTSTAMP:20260420T050318
CREATED:20251002T053134Z
LAST-MODIFIED:20251031T064622Z
UID:10003063-1761922800-1761926400@kettleparkseniorliving.com
SUMMARY:Snack & Chat
DESCRIPTION:
URL:https://kettleparkseniorliving.com/event-calendar/snack-chat-88/
LOCATION:Lounge Area
CATEGORIES:Memory Care
END:VEVENT
BEGIN:VEVENT
DTSTART;TZID=America/Chicago:20251031T093000
DTEND;TZID=America/Chicago:20251031T100000
DTSTAMP:20260420T050318
CREATED:20251002T053134Z
LAST-MODIFIED:20251031T064622Z
UID:10003061-1761903000-1761904800@kettleparkseniorliving.com
SUMMARY:Get Fit
DESCRIPTION:
URL:https://kettleparkseniorliving.com/event-calendar/get-fit-231/
LOCATION:Lounge Area
CATEGORIES:Memory Care
END:VEVENT
BEGIN:VEVENT
DTSTART;TZID=America/Chicago:20251031T091500
DTEND;TZID=America/Chicago:20251031T093000
DTSTAMP:20260420T050318
CREATED:20251002T053134Z
LAST-MODIFIED:20251031T064622Z
UID:10003058-1761902100-1761903000@kettleparkseniorliving.com
SUMMARY:News/Current Events
DESCRIPTION:
URL:https://kettleparkseniorliving.com/event-calendar/news-current-events-170/
LOCATION:Lounge Area
CATEGORIES:Memory Care
END:VEVENT
BEGIN:VEVENT
DTSTART;TZID=America/Chicago:20251030T180000
DTEND;TZID=America/Chicago:20251030T190000
DTSTAMP:20260420T050318
CREATED:20251001T053207Z
LAST-MODIFIED:20251030T064635Z
UID:10003019-1761847200-1761850800@kettleparkseniorliving.com
SUMMARY:Active Game
DESCRIPTION:
URL:https://kettleparkseniorliving.com/event-calendar/active-game-92/
LOCATION:Lounge Area
CATEGORIES:Memory Care
END:VEVENT
BEGIN:VEVENT
DTSTART;TZID=America/Chicago:20251030T160000
DTEND;TZID=America/Chicago:20251030T161500
DTSTAMP:20260420T050318
CREATED:20251001T053207Z
LAST-MODIFIED:20251003T053132Z
UID:10003018-1761840000-1761840900@kettleparkseniorliving.com
SUMMARY:Move to the Music
DESCRIPTION:
URL:https://kettleparkseniorliving.com/event-calendar/move-to-the-music-44/
LOCATION:Lounge Area
CATEGORIES:Memory Care
END:VEVENT
BEGIN:VEVENT
DTSTART;TZID=America/Chicago:20251030T150000
DTEND;TZID=America/Chicago:20251030T160000
DTSTAMP:20260420T050318
CREATED:20251001T053207Z
LAST-MODIFIED:20251030T064635Z
UID:10003017-1761836400-1761840000@kettleparkseniorliving.com
SUMMARY:Birthday cake
DESCRIPTION:
URL:https://kettleparkseniorliving.com/event-calendar/snack-chat-87/
LOCATION:Lounge Area
CATEGORIES:Memory Care
END:VEVENT
BEGIN:VEVENT
DTSTART;TZID=America/Chicago:20251030T133000
DTEND;TZID=America/Chicago:20251030T150000
DTSTAMP:20260420T050318
CREATED:20251024T063146Z
LAST-MODIFIED:20251030T064635Z
UID:10003436-1761831000-1761836400@kettleparkseniorliving.com
SUMMARY:Bowling
DESCRIPTION:
URL:https://kettleparkseniorliving.com/event-calendar/bowling-4/
LOCATION:Lounge Area
CATEGORIES:Memory Care
END:VEVENT
BEGIN:VEVENT
DTSTART;TZID=America/Chicago:20251030T110000
DTEND;TZID=America/Chicago:20251030T120000
DTSTAMP:20260420T050318
CREATED:20251001T053207Z
LAST-MODIFIED:20251030T064635Z
UID:10003016-1761822000-1761825600@kettleparkseniorliving.com
SUMMARY:Dog Visits w/ Lucy and Tink
DESCRIPTION:
URL:https://kettleparkseniorliving.com/event-calendar/dog-visits-w-lucy-and-tink-49/
LOCATION:Lounge Area
CATEGORIES:Memory Care
END:VEVENT
END:VCALENDAR