BEGIN:VCALENDAR
VERSION:2.0
PRODID:-//Kettle Park Senior Living - ECPv6.11.2.1//NONSGML v1.0//EN
CALSCALE:GREGORIAN
METHOD:PUBLISH
X-ORIGINAL-URL:https://kettleparkseniorliving.com
X-WR-CALDESC:Events for Kettle Park Senior Living
REFRESH-INTERVAL;VALUE=DURATION:PT1H
X-Robots-Tag:noindex
X-PUBLISHED-TTL:PT1H
BEGIN:VTIMEZONE
TZID:America/Chicago
BEGIN:DAYLIGHT
TZOFFSETFROM:-0600
TZOFFSETTO:-0500
TZNAME:CDT
DTSTART:20250309T080000
END:DAYLIGHT
BEGIN:STANDARD
TZOFFSETFROM:-0500
TZOFFSETTO:-0600
TZNAME:CST
DTSTART:20251102T070000
END:STANDARD
END:VTIMEZONE
BEGIN:VEVENT
DTSTART;TZID=America/Chicago:20251101T091500
DTEND;TZID=America/Chicago:20251101T093000
DTSTAMP:20260420T082316
CREATED:20251003T053133Z
LAST-MODIFIED:20251101T064623Z
UID:10003070-1761988500-1761989400@kettleparkseniorliving.com
SUMMARY:News/Current Events
DESCRIPTION:
URL:https://kettleparkseniorliving.com/event-calendar/news-current-events-171/
LOCATION:Lounge Area
CATEGORIES:Memory Care
END:VEVENT
BEGIN:VEVENT
DTSTART;TZID=America/Chicago:20251031T180000
DTEND;TZID=America/Chicago:20251031T193000
DTSTAMP:20260420T082316
CREATED:20251002T053135Z
LAST-MODIFIED:20251031T064622Z
UID:10003066-1761933600-1761939000@kettleparkseniorliving.com
SUMMARY:Friday Night Movie
DESCRIPTION:
URL:https://kettleparkseniorliving.com/event-calendar/friday-night-movie-50/
LOCATION:Lounge Area
CATEGORIES:Memory Care
END:VEVENT
BEGIN:VEVENT
DTSTART;TZID=America/Chicago:20251031T150000
DTEND;TZID=America/Chicago:20251031T160000
DTSTAMP:20260420T082316
CREATED:20251002T053134Z
LAST-MODIFIED:20251031T064622Z
UID:10003063-1761922800-1761926400@kettleparkseniorliving.com
SUMMARY:Snack & Chat
DESCRIPTION:
URL:https://kettleparkseniorliving.com/event-calendar/snack-chat-88/
LOCATION:Lounge Area
CATEGORIES:Memory Care
END:VEVENT
BEGIN:VEVENT
DTSTART;TZID=America/Chicago:20251031T093000
DTEND;TZID=America/Chicago:20251031T100000
DTSTAMP:20260420T082316
CREATED:20251002T053134Z
LAST-MODIFIED:20251031T064622Z
UID:10003061-1761903000-1761904800@kettleparkseniorliving.com
SUMMARY:Get Fit
DESCRIPTION:
URL:https://kettleparkseniorliving.com/event-calendar/get-fit-231/
LOCATION:Lounge Area
CATEGORIES:Memory Care
END:VEVENT
BEGIN:VEVENT
DTSTART;TZID=America/Chicago:20251031T091500
DTEND;TZID=America/Chicago:20251031T093000
DTSTAMP:20260420T082316
CREATED:20251002T053134Z
LAST-MODIFIED:20251031T064622Z
UID:10003058-1761902100-1761903000@kettleparkseniorliving.com
SUMMARY:News/Current Events
DESCRIPTION:
URL:https://kettleparkseniorliving.com/event-calendar/news-current-events-170/
LOCATION:Lounge Area
CATEGORIES:Memory Care
END:VEVENT
BEGIN:VEVENT
DTSTART;TZID=America/Chicago:20251030T180000
DTEND;TZID=America/Chicago:20251030T190000
DTSTAMP:20260420T082316
CREATED:20251001T053207Z
LAST-MODIFIED:20251030T064635Z
UID:10003019-1761847200-1761850800@kettleparkseniorliving.com
SUMMARY:Active Game
DESCRIPTION:
URL:https://kettleparkseniorliving.com/event-calendar/active-game-92/
LOCATION:Lounge Area
CATEGORIES:Memory Care
END:VEVENT
BEGIN:VEVENT
DTSTART;TZID=America/Chicago:20251030T160000
DTEND;TZID=America/Chicago:20251030T161500
DTSTAMP:20260420T082316
CREATED:20251001T053207Z
LAST-MODIFIED:20251003T053132Z
UID:10003018-1761840000-1761840900@kettleparkseniorliving.com
SUMMARY:Move to the Music
DESCRIPTION:
URL:https://kettleparkseniorliving.com/event-calendar/move-to-the-music-44/
LOCATION:Lounge Area
CATEGORIES:Memory Care
END:VEVENT
BEGIN:VEVENT
DTSTART;TZID=America/Chicago:20251030T150000
DTEND;TZID=America/Chicago:20251030T160000
DTSTAMP:20260420T082316
CREATED:20251001T053207Z
LAST-MODIFIED:20251030T064635Z
UID:10003017-1761836400-1761840000@kettleparkseniorliving.com
SUMMARY:Birthday cake
DESCRIPTION:
URL:https://kettleparkseniorliving.com/event-calendar/snack-chat-87/
LOCATION:Lounge Area
CATEGORIES:Memory Care
END:VEVENT
BEGIN:VEVENT
DTSTART;TZID=America/Chicago:20251030T133000
DTEND;TZID=America/Chicago:20251030T150000
DTSTAMP:20260420T082316
CREATED:20251024T063146Z
LAST-MODIFIED:20251030T064635Z
UID:10003436-1761831000-1761836400@kettleparkseniorliving.com
SUMMARY:Bowling
DESCRIPTION:
URL:https://kettleparkseniorliving.com/event-calendar/bowling-4/
LOCATION:Lounge Area
CATEGORIES:Memory Care
END:VEVENT
BEGIN:VEVENT
DTSTART;TZID=America/Chicago:20251030T110000
DTEND;TZID=America/Chicago:20251030T120000
DTSTAMP:20260420T082316
CREATED:20251001T053207Z
LAST-MODIFIED:20251030T064635Z
UID:10003016-1761822000-1761825600@kettleparkseniorliving.com
SUMMARY:Dog Visits w/ Lucy and Tink
DESCRIPTION:
URL:https://kettleparkseniorliving.com/event-calendar/dog-visits-w-lucy-and-tink-49/
LOCATION:Lounge Area
CATEGORIES:Memory Care
END:VEVENT
BEGIN:VEVENT
DTSTART;TZID=America/Chicago:20251030T100000
DTEND;TZID=America/Chicago:20251030T110000
DTSTAMP:20260420T082316
CREATED:20251001T053207Z
LAST-MODIFIED:20251030T064635Z
UID:10003015-1761818400-1761822000@kettleparkseniorliving.com
SUMMARY:Linked Senior
DESCRIPTION:
URL:https://kettleparkseniorliving.com/event-calendar/linked-senior-25/
LOCATION:Lounge Area
CATEGORIES:Memory Care
END:VEVENT
BEGIN:VEVENT
DTSTART;TZID=America/Chicago:20251030T093000
DTEND;TZID=America/Chicago:20251030T100000
DTSTAMP:20260420T082316
CREATED:20251001T053207Z
LAST-MODIFIED:20251030T064635Z
UID:10003014-1761816600-1761818400@kettleparkseniorliving.com
SUMMARY:Get Fit
DESCRIPTION:
URL:https://kettleparkseniorliving.com/event-calendar/get-fit-230/
LOCATION:Lounge Area
CATEGORIES:Memory Care
END:VEVENT
BEGIN:VEVENT
DTSTART;TZID=America/Chicago:20251030T091500
DTEND;TZID=America/Chicago:20251030T093000
DTSTAMP:20260420T082316
CREATED:20251001T053207Z
LAST-MODIFIED:20251030T064635Z
UID:10003013-1761815700-1761816600@kettleparkseniorliving.com
SUMMARY:News/Current Events
DESCRIPTION:
URL:https://kettleparkseniorliving.com/event-calendar/news-current-events-169/
LOCATION:Lounge Area
CATEGORIES:Memory Care
END:VEVENT
BEGIN:VEVENT
DTSTART;TZID=America/Chicago:20251029T180000
DTEND;TZID=America/Chicago:20251029T190000
DTSTAMP:20260420T082316
CREATED:20250930T053141Z
LAST-MODIFIED:20251029T064629Z
UID:10003006-1761760800-1761764400@kettleparkseniorliving.com
SUMMARY:Reminisce
DESCRIPTION:
URL:https://kettleparkseniorliving.com/event-calendar/reminisce-49/
LOCATION:Lounge Area
CATEGORIES:Memory Care
END:VEVENT
BEGIN:VEVENT
DTSTART;TZID=America/Chicago:20251029T150000
DTEND;TZID=America/Chicago:20251029T160000
DTSTAMP:20260420T082316
CREATED:20250930T053141Z
LAST-MODIFIED:20251029T064629Z
UID:10003005-1761750000-1761753600@kettleparkseniorliving.com
SUMMARY:Snack & Chat
DESCRIPTION:
URL:https://kettleparkseniorliving.com/event-calendar/snack-chat-86/
LOCATION:Lounge Area
CATEGORIES:Memory Care
END:VEVENT
BEGIN:VEVENT
DTSTART;TZID=America/Chicago:20251029T093000
DTEND;TZID=America/Chicago:20251029T100000
DTSTAMP:20260420T082316
CREATED:20250930T053140Z
LAST-MODIFIED:20251029T064629Z
UID:10003003-1761730200-1761732000@kettleparkseniorliving.com
SUMMARY:Get Fit
DESCRIPTION:
URL:https://kettleparkseniorliving.com/event-calendar/get-fit-229/
LOCATION:Lounge Area
CATEGORIES:Memory Care
END:VEVENT
BEGIN:VEVENT
DTSTART;TZID=America/Chicago:20251029T091500
DTEND;TZID=America/Chicago:20251029T093000
DTSTAMP:20260420T082316
CREATED:20250930T053140Z
LAST-MODIFIED:20251029T064629Z
UID:10003002-1761729300-1761730200@kettleparkseniorliving.com
SUMMARY:News/Current Events
DESCRIPTION:
URL:https://kettleparkseniorliving.com/event-calendar/news-current-events-168/
LOCATION:Lounge Area
CATEGORIES:Memory Care
END:VEVENT
BEGIN:VEVENT
DTSTART;TZID=America/Chicago:20251028T180000
DTEND;TZID=America/Chicago:20251028T190000
DTSTAMP:20260420T082316
CREATED:20250929T051644Z
LAST-MODIFIED:20251028T063124Z
UID:10002991-1761674400-1761678000@kettleparkseniorliving.com
SUMMARY:Fun with Trivia
DESCRIPTION:
URL:https://kettleparkseniorliving.com/event-calendar/fun-with-trivia-24/
LOCATION:Lounge Area
CATEGORIES:Memory Care
END:VEVENT
BEGIN:VEVENT
DTSTART;TZID=America/Chicago:20251028T160000
DTEND;TZID=America/Chicago:20251028T161500
DTSTAMP:20260420T082316
CREATED:20250929T051644Z
LAST-MODIFIED:20251003T053132Z
UID:10002990-1761667200-1761668100@kettleparkseniorliving.com
SUMMARY:Move to the Music
DESCRIPTION:
URL:https://kettleparkseniorliving.com/event-calendar/move-to-the-music-43/
LOCATION:Lounge Area
CATEGORIES:Memory Care
END:VEVENT
BEGIN:VEVENT
DTSTART;TZID=America/Chicago:20251028T150000
DTEND;TZID=America/Chicago:20251028T160000
DTSTAMP:20260420T082316
CREATED:20250929T051644Z
LAST-MODIFIED:20251028T063124Z
UID:10002989-1761663600-1761667200@kettleparkseniorliving.com
SUMMARY:Snack & Chat
DESCRIPTION:
URL:https://kettleparkseniorliving.com/event-calendar/snack-chat-85/
LOCATION:Lounge Area
CATEGORIES:Memory Care
END:VEVENT
BEGIN:VEVENT
DTSTART;TZID=America/Chicago:20251028T133000
DTEND;TZID=America/Chicago:20251028T143000
DTSTAMP:20260420T082316
CREATED:20251011T053125Z
LAST-MODIFIED:20251028T063124Z
UID:10003232-1761658200-1761661800@kettleparkseniorliving.com
SUMMARY:Active Game
DESCRIPTION:
URL:https://kettleparkseniorliving.com/event-calendar/active-game-98/
LOCATION:Lounge Area
CATEGORIES:Memory Care
END:VEVENT
BEGIN:VEVENT
DTSTART;TZID=America/Chicago:20251028T130000
DTEND;TZID=America/Chicago:20251028T140000
DTSTAMP:20260420T082316
CREATED:20250929T051644Z
LAST-MODIFIED:20251028T063124Z
UID:10002988-1761656400-1761660000@kettleparkseniorliving.com
SUMMARY:Devotions with Chaplin Lee
DESCRIPTION:
URL:https://kettleparkseniorliving.com/event-calendar/devotions-with-chaplin-lee-47/
LOCATION:Lounge Area
CATEGORIES:Memory Care
END:VEVENT
BEGIN:VEVENT
DTSTART;TZID=America/Chicago:20251028T110000
DTEND;TZID=America/Chicago:20251028T120000
DTSTAMP:20260420T082316
CREATED:20250929T051644Z
LAST-MODIFIED:20251028T063124Z
UID:10002987-1761649200-1761652800@kettleparkseniorliving.com
SUMMARY:Dog Visits w/ Lucy and Tink
DESCRIPTION:
URL:https://kettleparkseniorliving.com/event-calendar/dog-visits-w-lucy-and-tink-48/
LOCATION:Lounge Area
CATEGORIES:Memory Care
END:VEVENT
BEGIN:VEVENT
DTSTART;TZID=America/Chicago:20251028T100000
DTEND;TZID=America/Chicago:20251028T110000
DTSTAMP:20260420T082316
CREATED:20250929T051643Z
LAST-MODIFIED:20251028T063124Z
UID:10002985-1761645600-1761649200@kettleparkseniorliving.com
SUMMARY:Activities with Kathy
DESCRIPTION:
URL:https://kettleparkseniorliving.com/event-calendar/reading-w-kathy-24/
LOCATION:Lounge Area
CATEGORIES:Memory Care
END:VEVENT
BEGIN:VEVENT
DTSTART;TZID=America/Chicago:20251028T093000
DTEND;TZID=America/Chicago:20251028T100000
DTSTAMP:20260420T082316
CREATED:20250929T051643Z
LAST-MODIFIED:20251028T063124Z
UID:10002986-1761643800-1761645600@kettleparkseniorliving.com
SUMMARY:Get Fit
DESCRIPTION:
URL:https://kettleparkseniorliving.com/event-calendar/get-fit-228/
LOCATION:Lounge Area
CATEGORIES:Memory Care
END:VEVENT
BEGIN:VEVENT
DTSTART;TZID=America/Chicago:20251028T091500
DTEND;TZID=America/Chicago:20251028T093000
DTSTAMP:20260420T082316
CREATED:20250929T051643Z
LAST-MODIFIED:20251028T063124Z
UID:10002984-1761642900-1761643800@kettleparkseniorliving.com
SUMMARY:News/Current Events
DESCRIPTION:
URL:https://kettleparkseniorliving.com/event-calendar/news-current-events-167/
LOCATION:Lounge Area
CATEGORIES:Memory Care
END:VEVENT
BEGIN:VEVENT
DTSTART;TZID=America/Chicago:20251027T150000
DTEND;TZID=America/Chicago:20251027T160000
DTSTAMP:20260420T082316
CREATED:20250928T051631Z
LAST-MODIFIED:20251027T063122Z
UID:10002972-1761577200-1761580800@kettleparkseniorliving.com
SUMMARY:Happy Hour
DESCRIPTION:
URL:https://kettleparkseniorliving.com/event-calendar/happy-hour-43/
LOCATION:Lounge Area
CATEGORIES:Memory Care
END:VEVENT
BEGIN:VEVENT
DTSTART;TZID=America/Chicago:20251027T150000
DTEND;TZID=America/Chicago:20251027T160000
DTSTAMP:20260420T082316
CREATED:20250928T051631Z
LAST-MODIFIED:20250929T051643Z
UID:10002973-1761577200-1761580800@kettleparkseniorliving.com
SUMMARY:Snack & Chat
DESCRIPTION:
URL:https://kettleparkseniorliving.com/event-calendar/snack-chat-84/
LOCATION:Lounge Area
CATEGORIES:Memory Care
END:VEVENT
BEGIN:VEVENT
DTSTART;TZID=America/Chicago:20251027T134500
DTEND;TZID=America/Chicago:20251027T143000
DTSTAMP:20260420T082316
CREATED:20250928T051631Z
LAST-MODIFIED:20251027T063122Z
UID:10002970-1761572700-1761575400@kettleparkseniorliving.com
SUMMARY:UMC Devotions
DESCRIPTION:
URL:https://kettleparkseniorliving.com/event-calendar/umc-devotions-52/
LOCATION:Lounge Area
CATEGORIES:Memory Care
END:VEVENT
BEGIN:VEVENT
DTSTART;TZID=America/Chicago:20251027T093000
DTEND;TZID=America/Chicago:20251027T100000
DTSTAMP:20260420T082316
CREATED:20250928T051631Z
LAST-MODIFIED:20251027T063122Z
UID:10002968-1761557400-1761559200@kettleparkseniorliving.com
SUMMARY:Get Fit
DESCRIPTION:
URL:https://kettleparkseniorliving.com/event-calendar/get-fit-227/
LOCATION:Lounge Area
CATEGORIES:Memory Care
END:VEVENT
END:VCALENDAR