BEGIN:VCALENDAR
VERSION:2.0
PRODID:-//Kettle Park Senior Living - ECPv6.11.2.1//NONSGML v1.0//EN
CALSCALE:GREGORIAN
METHOD:PUBLISH
X-WR-CALNAME:Kettle Park Senior Living
X-ORIGINAL-URL:https://kettleparkseniorliving.com
X-WR-CALDESC:Events for Kettle Park Senior Living
REFRESH-INTERVAL;VALUE=DURATION:PT1H
X-Robots-Tag:noindex
X-PUBLISHED-TTL:PT1H
BEGIN:VTIMEZONE
TZID:America/Chicago
BEGIN:DAYLIGHT
TZOFFSETFROM:-0600
TZOFFSETTO:-0500
TZNAME:CDT
DTSTART:20250309T080000
END:DAYLIGHT
BEGIN:STANDARD
TZOFFSETFROM:-0500
TZOFFSETTO:-0600
TZNAME:CST
DTSTART:20251102T070000
END:STANDARD
END:VTIMEZONE
BEGIN:VEVENT
DTSTART;TZID=America/Chicago:20251007T110000
DTEND;TZID=America/Chicago:20251007T120000
DTSTAMP:20260421T083116
CREATED:20250908T043143Z
LAST-MODIFIED:20251007T053132Z
UID:10002584-1759834800-1759838400@kettleparkseniorliving.com
SUMMARY:Dog Visits w/ Lucy and Tink
DESCRIPTION:
URL:https://kettleparkseniorliving.com/event-calendar/dog-visits-w-lucy-and-tink-42/
LOCATION:Lounge Area
CATEGORIES:Memory Care
END:VEVENT
BEGIN:VEVENT
DTSTART;TZID=America/Chicago:20251007T093000
DTEND;TZID=America/Chicago:20251007T110000
DTSTAMP:20260421T083116
CREATED:20250908T043142Z
LAST-MODIFIED:20251007T053132Z
UID:10002582-1759829400-1759834800@kettleparkseniorliving.com
SUMMARY:Activities with Kathy
DESCRIPTION:
URL:https://kettleparkseniorliving.com/event-calendar/reading-w-kathy-21/
LOCATION:Lounge Area
CATEGORIES:Memory Care
END:VEVENT
BEGIN:VEVENT
DTSTART;TZID=America/Chicago:20251007T093000
DTEND;TZID=America/Chicago:20251007T100000
DTSTAMP:20260421T083116
CREATED:20250908T043143Z
LAST-MODIFIED:20251007T053132Z
UID:10002583-1759829400-1759831200@kettleparkseniorliving.com
SUMMARY:Get Fit
DESCRIPTION:
URL:https://kettleparkseniorliving.com/event-calendar/get-fit-207/
LOCATION:Lounge Area
CATEGORIES:Memory Care
END:VEVENT
BEGIN:VEVENT
DTSTART;TZID=America/Chicago:20251007T091500
DTEND;TZID=America/Chicago:20251007T093000
DTSTAMP:20260421T083116
CREATED:20250908T043142Z
LAST-MODIFIED:20251007T053131Z
UID:10002581-1759828500-1759829400@kettleparkseniorliving.com
SUMMARY:News/Current Events
DESCRIPTION:
URL:https://kettleparkseniorliving.com/event-calendar/news-current-events-146/
LOCATION:Lounge Area
CATEGORIES:Memory Care
END:VEVENT
BEGIN:VEVENT
DTSTART;TZID=America/Chicago:20251006T150000
DTEND;TZID=America/Chicago:20251006T160000
DTSTAMP:20260421T083116
CREATED:20250908T043142Z
LAST-MODIFIED:20251006T053132Z
UID:10002578-1759762800-1759766400@kettleparkseniorliving.com
SUMMARY:Happy Hour
DESCRIPTION:
URL:https://kettleparkseniorliving.com/event-calendar/happy-hour-37/
LOCATION:Lounge Area
CATEGORIES:Memory Care
END:VEVENT
BEGIN:VEVENT
DTSTART;TZID=America/Chicago:20251006T150000
DTEND;TZID=America/Chicago:20251006T160000
DTSTAMP:20260421T083116
CREATED:20250908T043142Z
LAST-MODIFIED:20250929T051636Z
UID:10002579-1759762800-1759766400@kettleparkseniorliving.com
SUMMARY:Snack & Chat
DESCRIPTION:
URL:https://kettleparkseniorliving.com/event-calendar/snack-chat-63/
LOCATION:Lounge Area
CATEGORIES:Memory Care
END:VEVENT
BEGIN:VEVENT
DTSTART;TZID=America/Chicago:20251006T134500
DTEND;TZID=America/Chicago:20251006T143000
DTSTAMP:20260421T083116
CREATED:20250907T043147Z
LAST-MODIFIED:20251006T053132Z
UID:10002572-1759758300-1759761000@kettleparkseniorliving.com
SUMMARY:UMC Devotions
DESCRIPTION:
URL:https://kettleparkseniorliving.com/event-calendar/umc-devotions-46/
LOCATION:Lounge Area
CATEGORIES:Memory Care
END:VEVENT
BEGIN:VEVENT
DTSTART;TZID=America/Chicago:20251006T093000
DTEND;TZID=America/Chicago:20251006T100000
DTSTAMP:20260421T083116
CREATED:20250907T043147Z
LAST-MODIFIED:20251006T053132Z
UID:10002569-1759743000-1759744800@kettleparkseniorliving.com
SUMMARY:Get Fit
DESCRIPTION:
URL:https://kettleparkseniorliving.com/event-calendar/get-fit-206/
LOCATION:Lounge Area
CATEGORIES:Memory Care
END:VEVENT
BEGIN:VEVENT
DTSTART;TZID=America/Chicago:20251006T091500
DTEND;TZID=America/Chicago:20251006T093000
DTSTAMP:20260421T083116
CREATED:20250907T043147Z
LAST-MODIFIED:20251006T053132Z
UID:10002568-1759742100-1759743000@kettleparkseniorliving.com
SUMMARY:News/Current Events
DESCRIPTION:
URL:https://kettleparkseniorliving.com/event-calendar/news-current-events-145/
LOCATION:Lounge Area
CATEGORIES:Memory Care
END:VEVENT
BEGIN:VEVENT
DTSTART;TZID=America/Chicago:20251005T180000
DTEND;TZID=America/Chicago:20251005T193000
DTSTAMP:20260421T083116
CREATED:20250907T043147Z
LAST-MODIFIED:20251005T053129Z
UID:10002566-1759687200-1759692600@kettleparkseniorliving.com
SUMMARY:Active Games
DESCRIPTION:
URL:https://kettleparkseniorliving.com/event-calendar/active-games-21/
LOCATION:Lounge Area
CATEGORIES:Memory Care
END:VEVENT
BEGIN:VEVENT
DTSTART;TZID=America/Chicago:20251005T150000
DTEND;TZID=America/Chicago:20251005T160000
DTSTAMP:20260421T083116
CREATED:20250907T043147Z
LAST-MODIFIED:20251005T053129Z
UID:10002565-1759676400-1759680000@kettleparkseniorliving.com
SUMMARY:Snack & Chat
DESCRIPTION:
URL:https://kettleparkseniorliving.com/event-calendar/snack-chat-62/
LOCATION:Lounge Area
CATEGORIES:Memory Care
END:VEVENT
BEGIN:VEVENT
DTSTART;TZID=America/Chicago:20251005T143000
DTEND;TZID=America/Chicago:20251005T150000
DTSTAMP:20260421T083116
CREATED:20250907T043147Z
LAST-MODIFIED:20251005T053129Z
UID:10002564-1759674600-1759676400@kettleparkseniorliving.com
SUMMARY:Active Game
DESCRIPTION:
URL:https://kettleparkseniorliving.com/event-calendar/active-game-82/
LOCATION:Lounge Area
CATEGORIES:Memory Care
END:VEVENT
BEGIN:VEVENT
DTSTART;TZID=America/Chicago:20251005T133000
DTEND;TZID=America/Chicago:20251005T143000
DTSTAMP:20260421T083116
CREATED:20250907T043147Z
LAST-MODIFIED:20251005T053129Z
UID:10002563-1759671000-1759674600@kettleparkseniorliving.com
SUMMARY:Word Games
DESCRIPTION:
URL:https://kettleparkseniorliving.com/event-calendar/word-games-21/
LOCATION:Lounge Area
CATEGORIES:Memory Care
END:VEVENT
BEGIN:VEVENT
DTSTART;TZID=America/Chicago:20251005T103000
DTEND;TZID=America/Chicago:20251005T113000
DTSTAMP:20260421T083116
CREATED:20250906T043229Z
LAST-MODIFIED:20251005T053129Z
UID:10002557-1759660200-1759663800@kettleparkseniorliving.com
SUMMARY:Hymn Sing
DESCRIPTION:
URL:https://kettleparkseniorliving.com/event-calendar/hymn-sing-33/
LOCATION:Lounge Area
CATEGORIES:Memory Care
END:VEVENT
BEGIN:VEVENT
DTSTART;TZID=America/Chicago:20251005T100000
DTEND;TZID=America/Chicago:20251005T103000
DTSTAMP:20260421T083116
CREATED:20250906T043229Z
LAST-MODIFIED:20251005T053129Z
UID:10002556-1759658400-1759660200@kettleparkseniorliving.com
SUMMARY:TV Church Service
DESCRIPTION:
URL:https://kettleparkseniorliving.com/event-calendar/tv-church-service-21/
LOCATION:Lounge Area
CATEGORIES:Memory Care
END:VEVENT
BEGIN:VEVENT
DTSTART;TZID=America/Chicago:20251005T093000
DTEND;TZID=America/Chicago:20251005T100000
DTSTAMP:20260421T083116
CREATED:20250906T043229Z
LAST-MODIFIED:20251005T053129Z
UID:10002555-1759656600-1759658400@kettleparkseniorliving.com
SUMMARY:Get Fit
DESCRIPTION:
URL:https://kettleparkseniorliving.com/event-calendar/get-fit-205/
LOCATION:Lounge Area
CATEGORIES:Memory Care
END:VEVENT
BEGIN:VEVENT
DTSTART;TZID=America/Chicago:20251005T091500
DTEND;TZID=America/Chicago:20251005T093000
DTSTAMP:20260421T083116
CREATED:20250906T043229Z
LAST-MODIFIED:20251005T053129Z
UID:10002554-1759655700-1759656600@kettleparkseniorliving.com
SUMMARY:News/Current Events
DESCRIPTION:
URL:https://kettleparkseniorliving.com/event-calendar/news-current-events-144/
LOCATION:Lounge Area
CATEGORIES:Memory Care
END:VEVENT
BEGIN:VEVENT
DTSTART;TZID=America/Chicago:20251004T150000
DTEND;TZID=America/Chicago:20251004T160000
DTSTAMP:20260421T083116
CREATED:20250906T043229Z
LAST-MODIFIED:20251004T053121Z
UID:10002550-1759590000-1759593600@kettleparkseniorliving.com
SUMMARY:Snack & Chat
DESCRIPTION:
URL:https://kettleparkseniorliving.com/event-calendar/snack-chat-61/
LOCATION:Lounge Area
CATEGORIES:Memory Care
END:VEVENT
BEGIN:VEVENT
DTSTART;TZID=America/Chicago:20251004T093000
DTEND;TZID=America/Chicago:20251004T100000
DTSTAMP:20260421T083116
CREATED:20250905T043144Z
LAST-MODIFIED:20251004T053121Z
UID:10002545-1759570200-1759572000@kettleparkseniorliving.com
SUMMARY:Get Fit
DESCRIPTION:
URL:https://kettleparkseniorliving.com/event-calendar/get-fit-204/
LOCATION:Lounge Area
CATEGORIES:Memory Care
END:VEVENT
BEGIN:VEVENT
DTSTART;TZID=America/Chicago:20251004T091500
DTEND;TZID=America/Chicago:20251004T093000
DTSTAMP:20260421T083116
CREATED:20250905T043144Z
LAST-MODIFIED:20251004T053121Z
UID:10002544-1759569300-1759570200@kettleparkseniorliving.com
SUMMARY:News/Current Events
DESCRIPTION:
URL:https://kettleparkseniorliving.com/event-calendar/news-current-events-143/
LOCATION:Lounge Area
CATEGORIES:Memory Care
END:VEVENT
BEGIN:VEVENT
DTSTART;TZID=America/Chicago:20251003T180000
DTEND;TZID=America/Chicago:20251003T193000
DTSTAMP:20260421T083116
CREATED:20250905T043144Z
LAST-MODIFIED:20251003T053125Z
UID:10002543-1759514400-1759519800@kettleparkseniorliving.com
SUMMARY:Friday Night Movie
DESCRIPTION:
URL:https://kettleparkseniorliving.com/event-calendar/friday-night-movie-42/
LOCATION:Lounge Area
CATEGORIES:Memory Care
END:VEVENT
BEGIN:VEVENT
DTSTART;TZID=America/Chicago:20251003T150000
DTEND;TZID=America/Chicago:20251003T160000
DTSTAMP:20260421T083116
CREATED:20250905T043143Z
LAST-MODIFIED:20251003T053125Z
UID:10002541-1759503600-1759507200@kettleparkseniorliving.com
SUMMARY:Snack & Chat
DESCRIPTION:
URL:https://kettleparkseniorliving.com/event-calendar/snack-chat-60/
LOCATION:Lounge Area
CATEGORIES:Memory Care
END:VEVENT
BEGIN:VEVENT
DTSTART;TZID=America/Chicago:20251003T093000
DTEND;TZID=America/Chicago:20251003T100000
DTSTAMP:20260421T083116
CREATED:20250905T043143Z
LAST-MODIFIED:20251003T053125Z
UID:10002536-1759483800-1759485600@kettleparkseniorliving.com
SUMMARY:Get Fit
DESCRIPTION:
URL:https://kettleparkseniorliving.com/event-calendar/get-fit-203/
LOCATION:Lounge Area
CATEGORIES:Memory Care
END:VEVENT
BEGIN:VEVENT
DTSTART;TZID=America/Chicago:20251003T091500
DTEND;TZID=America/Chicago:20251003T093000
DTSTAMP:20260421T083116
CREATED:20250904T043157Z
LAST-MODIFIED:20251003T053125Z
UID:10002533-1759482900-1759483800@kettleparkseniorliving.com
SUMMARY:News/Current Events
DESCRIPTION:
URL:https://kettleparkseniorliving.com/event-calendar/news-current-events-142/
LOCATION:Lounge Area
CATEGORIES:Memory Care
END:VEVENT
BEGIN:VEVENT
DTSTART;TZID=America/Chicago:20251002T180000
DTEND;TZID=America/Chicago:20251002T190000
DTSTAMP:20260421T083116
CREATED:20250904T043157Z
LAST-MODIFIED:20251002T053125Z
UID:10002531-1759428000-1759431600@kettleparkseniorliving.com
SUMMARY:Active Game
DESCRIPTION:
URL:https://kettleparkseniorliving.com/event-calendar/active-game-80/
LOCATION:Lounge Area
CATEGORIES:Memory Care
END:VEVENT
BEGIN:VEVENT
DTSTART;TZID=America/Chicago:20251002T160000
DTEND;TZID=America/Chicago:20251002T161500
DTSTAMP:20260421T083116
CREATED:20250928T051623Z
LAST-MODIFIED:20251002T053125Z
UID:10002952-1759420800-1759421700@kettleparkseniorliving.com
SUMMARY:Move to the Music
DESCRIPTION:
URL:https://kettleparkseniorliving.com/event-calendar/move-to-the-music-36/
LOCATION:Lounge Area
CATEGORIES:Memory Care
END:VEVENT
BEGIN:VEVENT
DTSTART;TZID=America/Chicago:20251002T150000
DTEND;TZID=America/Chicago:20251002T160000
DTSTAMP:20260421T083116
CREATED:20250904T043157Z
LAST-MODIFIED:20251002T053125Z
UID:10002530-1759417200-1759420800@kettleparkseniorliving.com
SUMMARY:Snack & Chat
DESCRIPTION:
URL:https://kettleparkseniorliving.com/event-calendar/snack-chat-59/
LOCATION:Lounge Area
CATEGORIES:Memory Care
END:VEVENT
BEGIN:VEVENT
DTSTART;TZID=America/Chicago:20251002T143000
DTEND;TZID=America/Chicago:20251002T150000
DTSTAMP:20260421T083116
CREATED:20250904T043157Z
LAST-MODIFIED:20250928T051623Z
UID:10002529-1759415400-1759417200@kettleparkseniorliving.com
SUMMARY:Reminisce
DESCRIPTION:
URL:https://kettleparkseniorliving.com/event-calendar/reminisce-42/
LOCATION:Lounge Area
CATEGORIES:Memory Care
END:VEVENT
BEGIN:VEVENT
DTSTART;TZID=America/Chicago:20251002T110000
DTEND;TZID=America/Chicago:20251002T120000
DTSTAMP:20260421T083116
CREATED:20250904T043157Z
LAST-MODIFIED:20251002T053125Z
UID:10002527-1759402800-1759406400@kettleparkseniorliving.com
SUMMARY:Dog Visits w/ Lucy and Tink
DESCRIPTION:
URL:https://kettleparkseniorliving.com/event-calendar/dog-visits-w-lucy-and-tink-41/
LOCATION:Lounge Area
CATEGORIES:Memory Care
END:VEVENT
BEGIN:VEVENT
DTSTART;TZID=America/Chicago:20251002T100000
DTEND;TZID=America/Chicago:20251002T110000
DTSTAMP:20260421T083116
CREATED:20250904T043157Z
LAST-MODIFIED:20250929T051634Z
UID:10002526-1759399200-1759402800@kettleparkseniorliving.com
SUMMARY:Linked Senior
DESCRIPTION:
URL:https://kettleparkseniorliving.com/event-calendar/linked-senior-21/
LOCATION:Lounge Area
CATEGORIES:Memory Care
END:VEVENT
END:VCALENDAR