BEGIN:VCALENDAR
VERSION:2.0
PRODID:-//Kettle Park Senior Living - ECPv6.11.2.1//NONSGML v1.0//EN
CALSCALE:GREGORIAN
METHOD:PUBLISH
X-WR-CALNAME:Kettle Park Senior Living
X-ORIGINAL-URL:https://kettleparkseniorliving.com
X-WR-CALDESC:Events for Kettle Park Senior Living
REFRESH-INTERVAL;VALUE=DURATION:PT1H
X-Robots-Tag:noindex
X-PUBLISHED-TTL:PT1H
BEGIN:VTIMEZONE
TZID:America/Chicago
BEGIN:DAYLIGHT
TZOFFSETFROM:-0600
TZOFFSETTO:-0500
TZNAME:CDT
DTSTART:20250309T080000
END:DAYLIGHT
BEGIN:STANDARD
TZOFFSETFROM:-0500
TZOFFSETTO:-0600
TZNAME:CST
DTSTART:20251102T070000
END:STANDARD
END:VTIMEZONE
BEGIN:VEVENT
DTSTART;TZID=America/Chicago:20251001T091500
DTEND;TZID=America/Chicago:20251001T093000
DTSTAMP:20260421T145610
CREATED:20250903T043132Z
LAST-MODIFIED:20251001T053158Z
UID:10002510-1759310100-1759311000@kettleparkseniorliving.com
SUMMARY:News/Current Events
DESCRIPTION:
URL:https://kettleparkseniorliving.com/event-calendar/news-current-events-140/
LOCATION:Lounge Area
CATEGORIES:Memory Care
END:VEVENT
BEGIN:VEVENT
DTSTART;TZID=America/Chicago:20250930T180000
DTEND;TZID=America/Chicago:20250930T190000
DTSTAMP:20260421T145610
CREATED:20250903T043132Z
LAST-MODIFIED:20250930T053131Z
UID:10002508-1759255200-1759258800@kettleparkseniorliving.com
SUMMARY:Fun with Trivia
DESCRIPTION:
URL:https://kettleparkseniorliving.com/event-calendar/fun-with-trivia-20/
LOCATION:Lounge Area
CATEGORIES:Memory Care
END:VEVENT
BEGIN:VEVENT
DTSTART;TZID=America/Chicago:20250930T150000
DTEND;TZID=America/Chicago:20250930T160000
DTSTAMP:20260421T145610
CREATED:20250903T043132Z
LAST-MODIFIED:20250930T053131Z
UID:10002507-1759244400-1759248000@kettleparkseniorliving.com
SUMMARY:Snack & Chat
DESCRIPTION:
URL:https://kettleparkseniorliving.com/event-calendar/snack-chat-57/
LOCATION:Lounge Area
CATEGORIES:Memory Care
END:VEVENT
BEGIN:VEVENT
DTSTART;TZID=America/Chicago:20250930T130000
DTEND;TZID=America/Chicago:20250930T140000
DTSTAMP:20260421T145610
CREATED:20250902T043144Z
LAST-MODIFIED:20250930T053131Z
UID:10002500-1759237200-1759240800@kettleparkseniorliving.com
SUMMARY:Devotions with Chaplin Lee
DESCRIPTION:
URL:https://kettleparkseniorliving.com/event-calendar/devotions-with-chaplin-lee-39/
LOCATION:Lounge Area
CATEGORIES:Memory Care
END:VEVENT
BEGIN:VEVENT
DTSTART;TZID=America/Chicago:20250930T110000
DTEND;TZID=America/Chicago:20250930T120000
DTSTAMP:20260421T145610
CREATED:20250902T043144Z
LAST-MODIFIED:20250930T053131Z
UID:10002498-1759230000-1759233600@kettleparkseniorliving.com
SUMMARY:Dog Visits w/ Lucy and Tink
DESCRIPTION:
URL:https://kettleparkseniorliving.com/event-calendar/dog-visits-w-lucy-and-tink-40/
LOCATION:Lounge Area
CATEGORIES:Memory Care
END:VEVENT
BEGIN:VEVENT
DTSTART;TZID=America/Chicago:20250930T093000
DTEND;TZID=America/Chicago:20250930T110000
DTSTAMP:20260421T145610
CREATED:20250902T043143Z
LAST-MODIFIED:20250930T053131Z
UID:10002495-1759224600-1759230000@kettleparkseniorliving.com
SUMMARY:Activities with Kathy
DESCRIPTION:
URL:https://kettleparkseniorliving.com/event-calendar/reading-w-kathy-20/
LOCATION:Lounge Area
CATEGORIES:Memory Care
END:VEVENT
BEGIN:VEVENT
DTSTART;TZID=America/Chicago:20250930T093000
DTEND;TZID=America/Chicago:20250930T100000
DTSTAMP:20260421T145610
CREATED:20250902T043143Z
LAST-MODIFIED:20250930T053131Z
UID:10002497-1759224600-1759226400@kettleparkseniorliving.com
SUMMARY:Get Fit
DESCRIPTION:
URL:https://kettleparkseniorliving.com/event-calendar/get-fit-200/
LOCATION:Lounge Area
CATEGORIES:Memory Care
END:VEVENT
BEGIN:VEVENT
DTSTART;TZID=America/Chicago:20250930T091500
DTEND;TZID=America/Chicago:20250930T093000
DTSTAMP:20260421T145610
CREATED:20250902T043143Z
LAST-MODIFIED:20250930T053131Z
UID:10002496-1759223700-1759224600@kettleparkseniorliving.com
SUMMARY:News/Current Events
DESCRIPTION:
URL:https://kettleparkseniorliving.com/event-calendar/news-current-events-139/
LOCATION:Lounge Area
CATEGORIES:Memory Care
END:VEVENT
BEGIN:VEVENT
DTSTART;TZID=America/Chicago:20250929T180000
DTEND;TZID=America/Chicago:20250929T190000
DTSTAMP:20260421T145610
CREATED:20250902T043143Z
LAST-MODIFIED:20250929T051635Z
UID:10002492-1759168800-1759172400@kettleparkseniorliving.com
SUMMARY:Finish the Phrase
DESCRIPTION:
URL:https://kettleparkseniorliving.com/event-calendar/finish-the-phrase-20/
LOCATION:Lounge Area
CATEGORIES:Memory Care
END:VEVENT
BEGIN:VEVENT
DTSTART;TZID=America/Chicago:20250929T150000
DTEND;TZID=America/Chicago:20250929T160000
DTSTAMP:20260421T145610
CREATED:20250902T043143Z
LAST-MODIFIED:20250929T051635Z
UID:10002491-1759158000-1759161600@kettleparkseniorliving.com
SUMMARY:Snack & Chat
DESCRIPTION:
URL:https://kettleparkseniorliving.com/event-calendar/snack-chat-56/
LOCATION:Lounge Area
CATEGORIES:Memory Care
END:VEVENT
BEGIN:VEVENT
DTSTART;TZID=America/Chicago:20250929T150000
DTEND;TZID=America/Chicago:20250929T160000
DTSTAMP:20260421T145610
CREATED:20250901T043139Z
LAST-MODIFIED:20250929T051635Z
UID:10002484-1759158000-1759161600@kettleparkseniorliving.com
SUMMARY:Happy Hour
DESCRIPTION:
URL:https://kettleparkseniorliving.com/event-calendar/happy-hour-35/
LOCATION:Lounge Area
CATEGORIES:Memory Care
END:VEVENT
BEGIN:VEVENT
DTSTART;TZID=America/Chicago:20250929T134500
DTEND;TZID=America/Chicago:20250929T143000
DTSTAMP:20260421T145610
CREATED:20250901T043139Z
LAST-MODIFIED:20250929T051635Z
UID:10002482-1759153500-1759156200@kettleparkseniorliving.com
SUMMARY:UMC Devotions
DESCRIPTION:
URL:https://kettleparkseniorliving.com/event-calendar/umc-devotions-44/
LOCATION:Lounge Area
CATEGORIES:Memory Care
END:VEVENT
BEGIN:VEVENT
DTSTART;TZID=America/Chicago:20250929T093000
DTEND;TZID=America/Chicago:20250929T100000
DTSTAMP:20260421T145610
CREATED:20250831T041638Z
LAST-MODIFIED:20250929T051635Z
UID:10002458-1759138200-1759140000@kettleparkseniorliving.com
SUMMARY:Get Fit
DESCRIPTION:
URL:https://kettleparkseniorliving.com/event-calendar/get-fit-199/
LOCATION:Lounge Area
CATEGORIES:Memory Care
END:VEVENT
BEGIN:VEVENT
DTSTART;TZID=America/Chicago:20250929T091500
DTEND;TZID=America/Chicago:20250929T093000
DTSTAMP:20260421T145610
CREATED:20250831T041637Z
LAST-MODIFIED:20250929T051635Z
UID:10002457-1759137300-1759138200@kettleparkseniorliving.com
SUMMARY:News/Current Events
DESCRIPTION:
URL:https://kettleparkseniorliving.com/event-calendar/news-current-events-138/
LOCATION:Lounge Area
CATEGORIES:Memory Care
END:VEVENT
BEGIN:VEVENT
DTSTART;TZID=America/Chicago:20250928T180000
DTEND;TZID=America/Chicago:20250928T193000
DTSTAMP:20260421T145610
CREATED:20250831T041637Z
LAST-MODIFIED:20250928T051623Z
UID:10002455-1759082400-1759087800@kettleparkseniorliving.com
SUMMARY:Active Games
DESCRIPTION:
URL:https://kettleparkseniorliving.com/event-calendar/active-games-20/
LOCATION:Lounge Area
CATEGORIES:Memory Care
END:VEVENT
BEGIN:VEVENT
DTSTART;TZID=America/Chicago:20250928T150000
DTEND;TZID=America/Chicago:20250928T160000
DTSTAMP:20260421T145610
CREATED:20250831T041637Z
LAST-MODIFIED:20250928T051622Z
UID:10002454-1759071600-1759075200@kettleparkseniorliving.com
SUMMARY:Snack & Chat
DESCRIPTION:
URL:https://kettleparkseniorliving.com/event-calendar/snack-chat-55/
LOCATION:Lounge Area
CATEGORIES:Memory Care
END:VEVENT
BEGIN:VEVENT
DTSTART;TZID=America/Chicago:20250928T143000
DTEND;TZID=America/Chicago:20250928T150000
DTSTAMP:20260421T145610
CREATED:20250831T041637Z
LAST-MODIFIED:20250928T051622Z
UID:10002453-1759069800-1759071600@kettleparkseniorliving.com
SUMMARY:Active Game
DESCRIPTION:
URL:https://kettleparkseniorliving.com/event-calendar/active-game-79/
LOCATION:Lounge Area
CATEGORIES:Memory Care
END:VEVENT
BEGIN:VEVENT
DTSTART;TZID=America/Chicago:20250928T133000
DTEND;TZID=America/Chicago:20250928T143000
DTSTAMP:20260421T145610
CREATED:20250831T041637Z
LAST-MODIFIED:20250928T051622Z
UID:10002452-1759066200-1759069800@kettleparkseniorliving.com
SUMMARY:Word Games
DESCRIPTION:
URL:https://kettleparkseniorliving.com/event-calendar/word-games-20/
LOCATION:Lounge Area
CATEGORIES:Memory Care
END:VEVENT
BEGIN:VEVENT
DTSTART;TZID=America/Chicago:20250928T103000
DTEND;TZID=America/Chicago:20250928T113000
DTSTAMP:20260421T145610
CREATED:20250831T041637Z
LAST-MODIFIED:20250928T051622Z
UID:10002450-1759055400-1759059000@kettleparkseniorliving.com
SUMMARY:Hymn Sing
DESCRIPTION:
URL:https://kettleparkseniorliving.com/event-calendar/hymn-sing-32/
LOCATION:Lounge Area
CATEGORIES:Memory Care
END:VEVENT
BEGIN:VEVENT
DTSTART;TZID=America/Chicago:20250928T100000
DTEND;TZID=America/Chicago:20250928T103000
DTSTAMP:20260421T145610
CREATED:20250830T040156Z
LAST-MODIFIED:20250928T051622Z
UID:10002421-1759053600-1759055400@kettleparkseniorliving.com
SUMMARY:TV Church Service
DESCRIPTION:
URL:https://kettleparkseniorliving.com/event-calendar/tv-church-service-20/
LOCATION:Lounge Area
CATEGORIES:Memory Care
END:VEVENT
BEGIN:VEVENT
DTSTART;TZID=America/Chicago:20250928T093000
DTEND;TZID=America/Chicago:20250928T100000
DTSTAMP:20260421T145610
CREATED:20250831T041637Z
LAST-MODIFIED:20250928T051622Z
UID:10002449-1759051800-1759053600@kettleparkseniorliving.com
SUMMARY:Get Fit
DESCRIPTION:
URL:https://kettleparkseniorliving.com/event-calendar/get-fit-198/
LOCATION:Lounge Area
CATEGORIES:Memory Care
END:VEVENT
BEGIN:VEVENT
DTSTART;TZID=America/Chicago:20250928T091500
DTEND;TZID=America/Chicago:20250928T093000
DTSTAMP:20260421T145610
CREATED:20250831T041637Z
LAST-MODIFIED:20250928T051622Z
UID:10002448-1759050900-1759051800@kettleparkseniorliving.com
SUMMARY:News/Current Events
DESCRIPTION:
URL:https://kettleparkseniorliving.com/event-calendar/news-current-events-137/
LOCATION:Lounge Area
CATEGORIES:Memory Care
END:VEVENT
BEGIN:VEVENT
DTSTART;TZID=America/Chicago:20250927T150000
DTEND;TZID=America/Chicago:20250927T160000
DTSTAMP:20260421T145610
CREATED:20250830T040156Z
LAST-MODIFIED:20250927T051639Z
UID:10002417-1758985200-1758988800@kettleparkseniorliving.com
SUMMARY:Snack & Chat
DESCRIPTION:
URL:https://kettleparkseniorliving.com/event-calendar/snack-chat-54/
LOCATION:Lounge Area
CATEGORIES:Memory Care
END:VEVENT
BEGIN:VEVENT
DTSTART;TZID=America/Chicago:20250927T093000
DTEND;TZID=America/Chicago:20250927T100000
DTSTAMP:20260421T145610
CREATED:20250830T040156Z
LAST-MODIFIED:20250927T051639Z
UID:10002413-1758965400-1758967200@kettleparkseniorliving.com
SUMMARY:Get Fit
DESCRIPTION:
URL:https://kettleparkseniorliving.com/event-calendar/get-fit-197/
LOCATION:Lounge Area
CATEGORIES:Memory Care
END:VEVENT
BEGIN:VEVENT
DTSTART;TZID=America/Chicago:20250927T091500
DTEND;TZID=America/Chicago:20250927T093000
DTSTAMP:20260421T145610
CREATED:20250829T040131Z
LAST-MODIFIED:20250927T051638Z
UID:10002409-1758964500-1758965400@kettleparkseniorliving.com
SUMMARY:News/Current Events
DESCRIPTION:
URL:https://kettleparkseniorliving.com/event-calendar/news-current-events-136/
LOCATION:Lounge Area
CATEGORIES:Memory Care
END:VEVENT
BEGIN:VEVENT
DTSTART;TZID=America/Chicago:20250926T180000
DTEND;TZID=America/Chicago:20250926T193000
DTSTAMP:20260421T145610
CREATED:20250829T040131Z
LAST-MODIFIED:20250926T051623Z
UID:10002407-1758909600-1758915000@kettleparkseniorliving.com
SUMMARY:Friday Night Movie
DESCRIPTION:
URL:https://kettleparkseniorliving.com/event-calendar/friday-night-movie-40/
LOCATION:Lounge Area
CATEGORIES:Memory Care
END:VEVENT
BEGIN:VEVENT
DTSTART;TZID=America/Chicago:20250926T150000
DTEND;TZID=America/Chicago:20250926T160000
DTSTAMP:20260421T145610
CREATED:20250829T040131Z
LAST-MODIFIED:20250926T051623Z
UID:10002405-1758898800-1758902400@kettleparkseniorliving.com
SUMMARY:Snack & Chat
DESCRIPTION:
URL:https://kettleparkseniorliving.com/event-calendar/snack-chat-53/
LOCATION:Lounge Area
CATEGORIES:Memory Care
END:VEVENT
BEGIN:VEVENT
DTSTART;TZID=America/Chicago:20250926T093000
DTEND;TZID=America/Chicago:20250926T100000
DTSTAMP:20260421T145610
CREATED:20250829T040131Z
LAST-MODIFIED:20250926T051623Z
UID:10002400-1758879000-1758880800@kettleparkseniorliving.com
SUMMARY:Get Fit
DESCRIPTION:
URL:https://kettleparkseniorliving.com/event-calendar/get-fit-196/
LOCATION:Lounge Area
CATEGORIES:Memory Care
END:VEVENT
BEGIN:VEVENT
DTSTART;TZID=America/Chicago:20250926T091500
DTEND;TZID=America/Chicago:20250926T093000
DTSTAMP:20260421T145610
CREATED:20250829T040131Z
LAST-MODIFIED:20250926T051623Z
UID:10002399-1758878100-1758879000@kettleparkseniorliving.com
SUMMARY:News/Current Events
DESCRIPTION:
URL:https://kettleparkseniorliving.com/event-calendar/news-current-events-135/
LOCATION:Lounge Area
CATEGORIES:Memory Care
END:VEVENT
BEGIN:VEVENT
DTSTART;TZID=America/Chicago:20250925T180000
DTEND;TZID=America/Chicago:20250925T190000
DTSTAMP:20260421T145610
CREATED:20250828T040130Z
LAST-MODIFIED:20250925T050203Z
UID:10002395-1758823200-1758826800@kettleparkseniorliving.com
SUMMARY:Active Game
DESCRIPTION:
URL:https://kettleparkseniorliving.com/event-calendar/active-game-76/
LOCATION:Lounge Area
CATEGORIES:Memory Care
END:VEVENT
END:VCALENDAR