BEGIN:VCALENDAR
VERSION:2.0
PRODID:-//Kettle Park Senior Living - ECPv6.11.2.1//NONSGML v1.0//EN
CALSCALE:GREGORIAN
METHOD:PUBLISH
X-WR-CALNAME:Kettle Park Senior Living
X-ORIGINAL-URL:https://kettleparkseniorliving.com
X-WR-CALDESC:Events for Kettle Park Senior Living
REFRESH-INTERVAL;VALUE=DURATION:PT1H
X-Robots-Tag:noindex
X-PUBLISHED-TTL:PT1H
BEGIN:VTIMEZONE
TZID:America/Chicago
BEGIN:DAYLIGHT
TZOFFSETFROM:-0600
TZOFFSETTO:-0500
TZNAME:CDT
DTSTART:20250309T080000
END:DAYLIGHT
BEGIN:STANDARD
TZOFFSETFROM:-0500
TZOFFSETTO:-0600
TZNAME:CST
DTSTART:20251102T070000
END:STANDARD
END:VTIMEZONE
BEGIN:VEVENT
DTSTART;TZID=America/Chicago:20250915T180000
DTEND;TZID=America/Chicago:20250915T190000
DTSTAMP:20260422T063124
CREATED:20250819T031639Z
LAST-MODIFIED:20250915T043137Z
UID:10002256-1757959200-1757962800@kettleparkseniorliving.com
SUMMARY:Finish the Phrase
DESCRIPTION:
URL:https://kettleparkseniorliving.com/event-calendar/finish-the-phrase-18/
LOCATION:Lounge Area
CATEGORIES:Memory Care
END:VEVENT
BEGIN:VEVENT
DTSTART;TZID=America/Chicago:20250915T150000
DTEND;TZID=America/Chicago:20250915T160000
DTSTAMP:20260422T063124
CREATED:20250819T031639Z
LAST-MODIFIED:20250915T043137Z
UID:10002254-1757948400-1757952000@kettleparkseniorliving.com
SUMMARY:Happy Hour
DESCRIPTION:
URL:https://kettleparkseniorliving.com/event-calendar/happy-hour-31/
LOCATION:Lounge Area
CATEGORIES:Memory Care
END:VEVENT
BEGIN:VEVENT
DTSTART;TZID=America/Chicago:20250915T150000
DTEND;TZID=America/Chicago:20250915T160000
DTSTAMP:20260422T063124
CREATED:20250819T031639Z
LAST-MODIFIED:20250909T043124Z
UID:10002255-1757948400-1757952000@kettleparkseniorliving.com
SUMMARY:Snack & Chat
DESCRIPTION:
URL:https://kettleparkseniorliving.com/event-calendar/snack-chat-42/
LOCATION:Lounge Area
CATEGORIES:Memory Care
END:VEVENT
BEGIN:VEVENT
DTSTART;TZID=America/Chicago:20250915T134500
DTEND;TZID=America/Chicago:20250915T141500
DTSTAMP:20260422T063124
CREATED:20250819T031639Z
LAST-MODIFIED:20250830T040151Z
UID:10002252-1757943900-1757945700@kettleparkseniorliving.com
SUMMARY:UMC Devotions
DESCRIPTION:
URL:https://kettleparkseniorliving.com/event-calendar/umc-devotions-36/
LOCATION:Lounge Area
CATEGORIES:Memory Care
END:VEVENT
BEGIN:VEVENT
DTSTART;TZID=America/Chicago:20250915T091500
DTEND;TZID=America/Chicago:20250915T093000
DTSTAMP:20260422T063124
CREATED:20250818T031640Z
LAST-MODIFIED:20250915T043137Z
UID:10002235-1757927700-1757928600@kettleparkseniorliving.com
SUMMARY:News/Current Events
DESCRIPTION:
URL:https://kettleparkseniorliving.com/event-calendar/news-current-events-124/
LOCATION:Lounge Area
CATEGORIES:Memory Care
END:VEVENT
BEGIN:VEVENT
DTSTART;TZID=America/Chicago:20250914T180000
DTEND;TZID=America/Chicago:20250914T193000
DTSTAMP:20260422T063124
CREATED:20250818T031640Z
LAST-MODIFIED:20250914T043122Z
UID:10002233-1757872800-1757878200@kettleparkseniorliving.com
SUMMARY:Active Games
DESCRIPTION:
URL:https://kettleparkseniorliving.com/event-calendar/active-games-18/
LOCATION:Lounge Area
CATEGORIES:Memory Care
END:VEVENT
BEGIN:VEVENT
DTSTART;TZID=America/Chicago:20250914T150000
DTEND;TZID=America/Chicago:20250914T160000
DTSTAMP:20260422T063124
CREATED:20250818T031640Z
LAST-MODIFIED:20250914T043122Z
UID:10002232-1757862000-1757865600@kettleparkseniorliving.com
SUMMARY:Snack & Chat
DESCRIPTION:
URL:https://kettleparkseniorliving.com/event-calendar/snack-chat-41/
LOCATION:Lounge Area
CATEGORIES:Memory Care
END:VEVENT
BEGIN:VEVENT
DTSTART;TZID=America/Chicago:20250914T143000
DTEND;TZID=America/Chicago:20250914T150000
DTSTAMP:20260422T063124
CREATED:20250818T031640Z
LAST-MODIFIED:20250914T043122Z
UID:10002231-1757860200-1757862000@kettleparkseniorliving.com
SUMMARY:Active Game
DESCRIPTION:
URL:https://kettleparkseniorliving.com/event-calendar/active-game-72/
LOCATION:Lounge Area
CATEGORIES:Memory Care
END:VEVENT
BEGIN:VEVENT
DTSTART;TZID=America/Chicago:20250914T133000
DTEND;TZID=America/Chicago:20250914T143000
DTSTAMP:20260422T063124
CREATED:20250818T031640Z
LAST-MODIFIED:20250914T043122Z
UID:10002230-1757856600-1757860200@kettleparkseniorliving.com
SUMMARY:Word Games
DESCRIPTION:
URL:https://kettleparkseniorliving.com/event-calendar/word-games-18/
LOCATION:Lounge Area
CATEGORIES:Memory Care
END:VEVENT
BEGIN:VEVENT
DTSTART;TZID=America/Chicago:20250914T103000
DTEND;TZID=America/Chicago:20250914T113000
DTSTAMP:20260422T063124
CREATED:20250818T031640Z
LAST-MODIFIED:20250914T043122Z
UID:10002228-1757845800-1757849400@kettleparkseniorliving.com
SUMMARY:Hymn Sing
DESCRIPTION:
URL:https://kettleparkseniorliving.com/event-calendar/hymn-sing-30/
LOCATION:Lounge Area
CATEGORIES:Memory Care
END:VEVENT
BEGIN:VEVENT
DTSTART;TZID=America/Chicago:20250914T100000
DTEND;TZID=America/Chicago:20250914T103000
DTSTAMP:20260422T063124
CREATED:20250817T031631Z
LAST-MODIFIED:20250914T043122Z
UID:10002221-1757844000-1757845800@kettleparkseniorliving.com
SUMMARY:TV Church Service
DESCRIPTION:
URL:https://kettleparkseniorliving.com/event-calendar/tv-church-service-18/
LOCATION:Lounge Area
CATEGORIES:Memory Care
END:VEVENT
BEGIN:VEVENT
DTSTART;TZID=America/Chicago:20250914T091500
DTEND;TZID=America/Chicago:20250914T093000
DTSTAMP:20260422T063124
CREATED:20250818T031640Z
LAST-MODIFIED:20250914T043122Z
UID:10002226-1757841300-1757842200@kettleparkseniorliving.com
SUMMARY:News/Current Events
DESCRIPTION:
URL:https://kettleparkseniorliving.com/event-calendar/news-current-events-123/
LOCATION:Lounge Area
CATEGORIES:Memory Care
END:VEVENT
BEGIN:VEVENT
DTSTART;TZID=America/Chicago:20250913T150000
DTEND;TZID=America/Chicago:20250913T160000
DTSTAMP:20260422T063124
CREATED:20250817T031631Z
LAST-MODIFIED:20250913T043124Z
UID:10002217-1757775600-1757779200@kettleparkseniorliving.com
SUMMARY:Snack & Chat
DESCRIPTION:
URL:https://kettleparkseniorliving.com/event-calendar/snack-chat-40/
LOCATION:Lounge Area
CATEGORIES:Memory Care
END:VEVENT
BEGIN:VEVENT
DTSTART;TZID=America/Chicago:20250913T091500
DTEND;TZID=America/Chicago:20250913T093000
DTSTAMP:20260422T063124
CREATED:20250816T031647Z
LAST-MODIFIED:20250913T043124Z
UID:10002208-1757754900-1757755800@kettleparkseniorliving.com
SUMMARY:News/Current Events
DESCRIPTION:
URL:https://kettleparkseniorliving.com/event-calendar/news-current-events-122/
LOCATION:Lounge Area
CATEGORIES:Memory Care
END:VEVENT
BEGIN:VEVENT
DTSTART;TZID=America/Chicago:20250912T180000
DTEND;TZID=America/Chicago:20250912T193000
DTSTAMP:20260422T063124
CREATED:20250816T031647Z
LAST-MODIFIED:20250912T043124Z
UID:10002204-1757700000-1757705400@kettleparkseniorliving.com
SUMMARY:Friday Night Movie
DESCRIPTION:
URL:https://kettleparkseniorliving.com/event-calendar/friday-night-movie-36/
LOCATION:Lounge Area
CATEGORIES:Memory Care
END:VEVENT
BEGIN:VEVENT
DTSTART;TZID=America/Chicago:20250912T150000
DTEND;TZID=America/Chicago:20250912T160000
DTSTAMP:20260422T063124
CREATED:20250816T031647Z
LAST-MODIFIED:20250912T043123Z
UID:10002202-1757689200-1757692800@kettleparkseniorliving.com
SUMMARY:Snack & Chat
DESCRIPTION:
URL:https://kettleparkseniorliving.com/event-calendar/snack-chat-39/
LOCATION:Lounge Area
CATEGORIES:Memory Care
END:VEVENT
BEGIN:VEVENT
DTSTART;TZID=America/Chicago:20250912T091500
DTEND;TZID=America/Chicago:20250912T093000
DTSTAMP:20260422T063124
CREATED:20250816T031647Z
LAST-MODIFIED:20250912T043123Z
UID:10002198-1757668500-1757669400@kettleparkseniorliving.com
SUMMARY:News/Current Events
DESCRIPTION:
URL:https://kettleparkseniorliving.com/event-calendar/news-current-events-121/
LOCATION:Lounge Area
CATEGORIES:Memory Care
END:VEVENT
BEGIN:VEVENT
DTSTART;TZID=America/Chicago:20250911T180000
DTEND;TZID=America/Chicago:20250911T190000
DTSTAMP:20260422T063124
CREATED:20250815T031633Z
LAST-MODIFIED:20250911T043123Z
UID:10002191-1757613600-1757617200@kettleparkseniorliving.com
SUMMARY:Active Game
DESCRIPTION:
URL:https://kettleparkseniorliving.com/event-calendar/active-game-70/
LOCATION:Lounge Area
CATEGORIES:Memory Care
END:VEVENT
BEGIN:VEVENT
DTSTART;TZID=America/Chicago:20250911T160000
DTEND;TZID=America/Chicago:20250911T170000
DTSTAMP:20260422T063124
CREATED:20250815T031633Z
LAST-MODIFIED:20250911T043123Z
UID:10002190-1757606400-1757610000@kettleparkseniorliving.com
SUMMARY:Move to the Music
DESCRIPTION:
URL:https://kettleparkseniorliving.com/event-calendar/move-to-the-music-33/
LOCATION:Lounge Area
CATEGORIES:Memory Care
END:VEVENT
BEGIN:VEVENT
DTSTART;TZID=America/Chicago:20250911T150000
DTEND;TZID=America/Chicago:20250911T160000
DTSTAMP:20260422T063124
CREATED:20250815T031633Z
LAST-MODIFIED:20250911T043123Z
UID:10002189-1757602800-1757606400@kettleparkseniorliving.com
SUMMARY:Snack & Chat
DESCRIPTION:
URL:https://kettleparkseniorliving.com/event-calendar/snack-chat-38/
LOCATION:Lounge Area
CATEGORIES:Memory Care
END:VEVENT
BEGIN:VEVENT
DTSTART;TZID=America/Chicago:20250911T143000
DTEND;TZID=America/Chicago:20250911T150000
DTSTAMP:20260422T063124
CREATED:20250815T031633Z
LAST-MODIFIED:20250911T043123Z
UID:10002188-1757601000-1757602800@kettleparkseniorliving.com
SUMMARY:Reminisce
DESCRIPTION:
URL:https://kettleparkseniorliving.com/event-calendar/reminisce-36/
LOCATION:Lounge Area
CATEGORIES:Memory Care
END:VEVENT
BEGIN:VEVENT
DTSTART;TZID=America/Chicago:20250911T133000
DTEND;TZID=America/Chicago:20250911T143000
DTSTAMP:20260422T063124
CREATED:20250815T031633Z
LAST-MODIFIED:20250831T041631Z
UID:10002187-1757597400-1757601000@kettleparkseniorliving.com
SUMMARY:Balloon Games
DESCRIPTION:
URL:https://kettleparkseniorliving.com/event-calendar/balloon-games-18/
LOCATION:Lounge Area
CATEGORIES:Memory Care
END:VEVENT
BEGIN:VEVENT
DTSTART;TZID=America/Chicago:20250911T110000
DTEND;TZID=America/Chicago:20250911T120000
DTSTAMP:20260422T063124
CREATED:20250815T031633Z
LAST-MODIFIED:20250911T043123Z
UID:10002186-1757588400-1757592000@kettleparkseniorliving.com
SUMMARY:Dog Visits w/ Lucy and Tink
DESCRIPTION:
URL:https://kettleparkseniorliving.com/event-calendar/dog-visits-w-lucy-and-tink-35/
LOCATION:Lounge Area
CATEGORIES:Memory Care
END:VEVENT
BEGIN:VEVENT
DTSTART;TZID=America/Chicago:20250911T100000
DTEND;TZID=America/Chicago:20250911T110000
DTSTAMP:20260422T063124
CREATED:20250814T031632Z
LAST-MODIFIED:20250911T043123Z
UID:10002180-1757584800-1757588400@kettleparkseniorliving.com
SUMMARY:Linked Senior
DESCRIPTION:
URL:https://kettleparkseniorliving.com/event-calendar/linked-senior-18/
LOCATION:Lounge Area
CATEGORIES:Memory Care
END:VEVENT
BEGIN:VEVENT
DTSTART;TZID=America/Chicago:20250911T091500
DTEND;TZID=America/Chicago:20250911T093000
DTSTAMP:20260422T063124
CREATED:20250815T031633Z
LAST-MODIFIED:20250911T043122Z
UID:10002184-1757582100-1757583000@kettleparkseniorliving.com
SUMMARY:News/Current Events
DESCRIPTION:
URL:https://kettleparkseniorliving.com/event-calendar/news-current-events-120/
LOCATION:Lounge Area
CATEGORIES:Memory Care
END:VEVENT
BEGIN:VEVENT
DTSTART;TZID=America/Chicago:20250910T180000
DTEND;TZID=America/Chicago:20250910T190000
DTSTAMP:20260422T063124
CREATED:20250814T031632Z
LAST-MODIFIED:20250910T043122Z
UID:10002178-1757527200-1757530800@kettleparkseniorliving.com
SUMMARY:Reminisce
DESCRIPTION:
URL:https://kettleparkseniorliving.com/event-calendar/reminisce-35/
LOCATION:Lounge Area
CATEGORIES:Memory Care
END:VEVENT
BEGIN:VEVENT
DTSTART;TZID=America/Chicago:20250910T150000
DTEND;TZID=America/Chicago:20250910T160000
DTSTAMP:20260422T063124
CREATED:20250814T031631Z
LAST-MODIFIED:20250910T043122Z
UID:10002176-1757516400-1757520000@kettleparkseniorliving.com
SUMMARY:Snack & Chat
DESCRIPTION:
URL:https://kettleparkseniorliving.com/event-calendar/snack-chat-37/
LOCATION:Lounge Area
CATEGORIES:Memory Care
END:VEVENT
BEGIN:VEVENT
DTSTART;TZID=America/Chicago:20250910T133000
DTEND;TZID=America/Chicago:20250910T143000
DTSTAMP:20260422T063124
CREATED:20250814T031631Z
LAST-MODIFIED:20250910T043122Z
UID:10002175-1757511000-1757514600@kettleparkseniorliving.com
SUMMARY:Table Games
DESCRIPTION:
URL:https://kettleparkseniorliving.com/event-calendar/table-games-6/
LOCATION:Lounge Area
CATEGORIES:Memory Care
END:VEVENT
BEGIN:VEVENT
DTSTART;TZID=America/Chicago:20250910T091500
DTEND;TZID=America/Chicago:20250910T093000
DTSTAMP:20260422T063124
CREATED:20250814T031631Z
LAST-MODIFIED:20250910T043121Z
UID:10002172-1757495700-1757496600@kettleparkseniorliving.com
SUMMARY:News/Current Events
DESCRIPTION:
URL:https://kettleparkseniorliving.com/event-calendar/news-current-events-119/
LOCATION:Lounge Area
CATEGORIES:Memory Care
END:VEVENT
BEGIN:VEVENT
DTSTART;TZID=America/Chicago:20250909T180000
DTEND;TZID=America/Chicago:20250909T190000
DTSTAMP:20260422T063124
CREATED:20250813T030129Z
LAST-MODIFIED:20250909T043124Z
UID:10002163-1757440800-1757444400@kettleparkseniorliving.com
SUMMARY:Fun with Trivia
DESCRIPTION:
URL:https://kettleparkseniorliving.com/event-calendar/fun-with-trivia-17/
LOCATION:Lounge Area
CATEGORIES:Memory Care
END:VEVENT
END:VCALENDAR