BEGIN:VCALENDAR
VERSION:2.0
PRODID:-//Kettle Park Senior Living - ECPv6.11.2.1//NONSGML v1.0//EN
CALSCALE:GREGORIAN
METHOD:PUBLISH
X-WR-CALNAME:Kettle Park Senior Living
X-ORIGINAL-URL:https://kettleparkseniorliving.com
X-WR-CALDESC:Events for Kettle Park Senior Living
REFRESH-INTERVAL;VALUE=DURATION:PT1H
X-Robots-Tag:noindex
X-PUBLISHED-TTL:PT1H
BEGIN:VTIMEZONE
TZID:America/Chicago
BEGIN:DAYLIGHT
TZOFFSETFROM:-0600
TZOFFSETTO:-0500
TZNAME:CDT
DTSTART:20250309T080000
END:DAYLIGHT
BEGIN:STANDARD
TZOFFSETFROM:-0500
TZOFFSETTO:-0600
TZNAME:CST
DTSTART:20251102T070000
END:STANDARD
END:VTIMEZONE
BEGIN:VEVENT
DTSTART;TZID=America/Chicago:20251207T152500
DTEND;TZID=America/Chicago:20251207T170000
DTSTAMP:20260419T095718
CREATED:20251205T003140Z
LAST-MODIFIED:20251207T003132Z
UID:10004065-1765121100-1765126800@kettleparkseniorliving.com
SUMMARY:Packers/Bears
DESCRIPTION:
URL:https://kettleparkseniorliving.com/event-calendar/packers-bears/
LOCATION:TV Room
CATEGORIES:Memory Care
END:VEVENT
BEGIN:VEVENT
DTSTART;TZID=America/Chicago:20250916T100000
DTEND;TZID=America/Chicago:20250916T110000
DTSTAMP:20260419T095718
CREATED:20250915T043136Z
LAST-MODIFIED:20250916T043122Z
UID:10002683-1758016800-1758020400@kettleparkseniorliving.com
SUMMARY:Link Senior
DESCRIPTION:
URL:https://kettleparkseniorliving.com/event-calendar/link-senior-5/
LOCATION:TV Room
CATEGORIES:Memory Care
END:VEVENT
BEGIN:VEVENT
DTSTART;TZID=America/Chicago:20250710T140000
DTEND;TZID=America/Chicago:20250710T150000
DTSTAMP:20260419T095718
CREATED:20250708T011632Z
LAST-MODIFIED:20250710T011623Z
UID:10001487-1752156000-1752159600@kettleparkseniorliving.com
SUMMARY:Virtual Program: Ben Franklin
DESCRIPTION:
URL:https://kettleparkseniorliving.com/event-calendar/virtual-program-ben-franklin/
LOCATION:TV Room
CATEGORIES:Memory Care
END:VEVENT
BEGIN:VEVENT
DTSTART;TZID=America/Chicago:20250523T133000
DTEND;TZID=America/Chicago:20250523T143000
DTSTAMP:20260419T095718
CREATED:20250522T210154Z
LAST-MODIFIED:20250522T210154Z
UID:10000578-1748007000-1748010600@kettleparkseniorliving.com
SUMMARY:Travel to Colardo
DESCRIPTION:
URL:https://kettleparkseniorliving.com/event-calendar/travel-to-colardo/
LOCATION:TV Room
CATEGORIES:Memory Care
END:VEVENT
END:VCALENDAR